BEGIN:VCALENDAR
VERSION:2.0
PRODID:-//WOMR - Outermost Community Radio - ECPv6.15.18//NONSGML v1.0//EN
CALSCALE:GREGORIAN
METHOD:PUBLISH
X-ORIGINAL-URL:https://womr.org
X-WR-CALDESC:Events for WOMR - Outermost Community Radio
REFRESH-INTERVAL;VALUE=DURATION:PT1H
X-Robots-Tag:noindex
X-PUBLISHED-TTL:PT1H
BEGIN:VTIMEZONE
TZID:America/New_York
BEGIN:DAYLIGHT
TZOFFSETFROM:-0500
TZOFFSETTO:-0400
TZNAME:EDT
DTSTART:20250309T070000
END:DAYLIGHT
BEGIN:STANDARD
TZOFFSETFROM:-0400
TZOFFSETTO:-0500
TZNAME:EST
DTSTART:20251102T060000
END:STANDARD
BEGIN:DAYLIGHT
TZOFFSETFROM:-0500
TZOFFSETTO:-0400
TZNAME:EDT
DTSTART:20260308T070000
END:DAYLIGHT
BEGIN:STANDARD
TZOFFSETFROM:-0400
TZOFFSETTO:-0500
TZNAME:EST
DTSTART:20261101T060000
END:STANDARD
BEGIN:DAYLIGHT
TZOFFSETFROM:-0500
TZOFFSETTO:-0400
TZNAME:EDT
DTSTART:20270314T070000
END:DAYLIGHT
BEGIN:STANDARD
TZOFFSETFROM:-0400
TZOFFSETTO:-0500
TZNAME:EST
DTSTART:20271107T060000
END:STANDARD
END:VTIMEZONE
BEGIN:VEVENT
DTSTART;TZID=America/New_York:20260807T190000
DTEND;TZID=America/New_York:20260807T190000
DTSTAMP:20260423T092930
CREATED:20260327T154932Z
LAST-MODIFIED:20260327T154938Z
UID:10017856-1786129200-1786129200@womr.org
SUMMARY:Matteo Lane
DESCRIPTION:We are so thrilled to welcome back Matteo Lane to Provincetown Town Hall for two unforgettable nights\, Friday\, August 7 and Saturday\, August 8! \nMatteo is a true original and a multifaceted talent whose stand-up comedy\, musical gifts\, and artistic versatility have taken him from New York City comedy clubs to sold-out stages at Carnegie Hall and The Kennedy Center\, and everywhere in between.
URL:https://womr.org/event/matteo-lane-3/
LOCATION:Provincetown Town Hall\, 260 Commercial St.\, Provincetown\, MA\, United States
CATEGORIES:Comedy
GEO:42.0512709;-70.1876737
X-APPLE-STRUCTURED-LOCATION;VALUE=URI;X-ADDRESS=Provincetown Town Hall 260 Commercial St. Provincetown MA United States;X-APPLE-RADIUS=500;X-TITLE=260 Commercial St.:geo:-70.1876737,42.0512709
END:VEVENT
BEGIN:VEVENT
DTSTART;TZID=America/New_York:20260808T190000
DTEND;TZID=America/New_York:20260808T190000
DTSTAMP:20260423T092930
CREATED:20260327T154954Z
LAST-MODIFIED:20260327T155001Z
UID:10017857-1786215600-1786215600@womr.org
SUMMARY:Matteo Lane
DESCRIPTION:We are so thrilled to welcome back Matteo Lane to Provincetown Town Hall for two unforgettable nights\, Friday\, August 7 and Saturday\, August 8! \nMatteo is a true original and a multifaceted talent whose stand-up comedy\, musical gifts\, and artistic versatility have taken him from New York City comedy clubs to sold-out stages at Carnegie Hall and The Kennedy Center\, and everywhere in between.
URL:https://womr.org/event/matteo-lane-3-2/
LOCATION:Provincetown Town Hall\, 260 Commercial St.\, Provincetown\, MA\, United States
CATEGORIES:Comedy
GEO:42.0512709;-70.1876737
X-APPLE-STRUCTURED-LOCATION;VALUE=URI;X-ADDRESS=Provincetown Town Hall 260 Commercial St. Provincetown MA United States;X-APPLE-RADIUS=500;X-TITLE=260 Commercial St.:geo:-70.1876737,42.0512709
END:VEVENT
BEGIN:VEVENT
DTSTART;TZID=America/New_York:20260816T203000
DTEND;TZID=America/New_York:20260816T203000
DTSTAMP:20260423T092930
CREATED:20260329T121407Z
LAST-MODIFIED:20260329T121413Z
UID:10017873-1786912200-1786912200@womr.org
SUMMARY:Bianca Del Rio
DESCRIPTION:RuPaul’s Drag Race Season 6 Champion\nHilarious Stand Up Comedy
URL:https://womr.org/event/bianca-del-rio/
LOCATION:Provincetown Town Hall\, 260 Commercial St.\, Provincetown\, MA\, United States
CATEGORIES:Comedy
GEO:42.0512709;-70.1876737
X-APPLE-STRUCTURED-LOCATION;VALUE=URI;X-ADDRESS=Provincetown Town Hall 260 Commercial St. Provincetown MA United States;X-APPLE-RADIUS=500;X-TITLE=260 Commercial St.:geo:-70.1876737,42.0512709
END:VEVENT
BEGIN:VEVENT
DTSTART;TZID=America/New_York:20260822T190000
DTEND;TZID=America/New_York:20260822T190000
DTSTAMP:20260423T092930
CREATED:20260327T155141Z
LAST-MODIFIED:20260327T155223Z
UID:10017858-1787425200-1787425200@womr.org
SUMMARY:Bob The Drag Queen
DESCRIPTION:Provincetown\, prepare yourselves — the hilarious\, beautiful\, and undeniably talented—Bob the Drag Queen\, is coming to town for one spectacular night on Saturday\, August 22! \nThe non-binary comic and actor first captured our hearts winning the title of “America’s Next Drag Superstar” on season 8 of “RuPaul’s Drag Race\,” and has been on an absolute tear ever since\, racking up acting credits for HBO\, Netflix\, Sony Tristar\, MTV\, and VH1 along the way.
URL:https://womr.org/event/bob-the-drag-queen/
LOCATION:Provincetown Town Hall\, 260 Commercial St.\, Provincetown\, MA\, United States
CATEGORIES:Comedy
ATTACH;FMTTYPE=image/jpeg:https://womr.org/wp-content/uploads/2026/03/BobDragQueen-600x380-1.jpg
GEO:42.0512709;-70.1876737
X-APPLE-STRUCTURED-LOCATION;VALUE=URI;X-ADDRESS=Provincetown Town Hall 260 Commercial St. Provincetown MA United States;X-APPLE-RADIUS=500;X-TITLE=260 Commercial St.:geo:-70.1876737,42.0512709
END:VEVENT
END:VCALENDAR