BEGIN:VCALENDAR
VERSION:2.0
PRODID:-//WOMR - Outermost Community Radio - ECPv6.15.18//NONSGML v1.0//EN
CALSCALE:GREGORIAN
METHOD:PUBLISH
X-ORIGINAL-URL:https://womr.org
X-WR-CALDESC:Events for WOMR - Outermost Community Radio
REFRESH-INTERVAL;VALUE=DURATION:PT1H
X-Robots-Tag:noindex
X-PUBLISHED-TTL:PT1H
BEGIN:VTIMEZONE
TZID:America/New_York
BEGIN:DAYLIGHT
TZOFFSETFROM:-0500
TZOFFSETTO:-0400
TZNAME:EDT
DTSTART:20240310T070000
END:DAYLIGHT
BEGIN:STANDARD
TZOFFSETFROM:-0400
TZOFFSETTO:-0500
TZNAME:EST
DTSTART:20241103T060000
END:STANDARD
BEGIN:DAYLIGHT
TZOFFSETFROM:-0500
TZOFFSETTO:-0400
TZNAME:EDT
DTSTART:20250309T070000
END:DAYLIGHT
BEGIN:STANDARD
TZOFFSETFROM:-0400
TZOFFSETTO:-0500
TZNAME:EST
DTSTART:20251102T060000
END:STANDARD
BEGIN:DAYLIGHT
TZOFFSETFROM:-0500
TZOFFSETTO:-0400
TZNAME:EDT
DTSTART:20260308T070000
END:DAYLIGHT
BEGIN:STANDARD
TZOFFSETFROM:-0400
TZOFFSETTO:-0500
TZNAME:EST
DTSTART:20261101T060000
END:STANDARD
END:VTIMEZONE
BEGIN:VEVENT
DTSTART;TZID=America/New_York:20251122T153000
DTEND;TZID=America/New_York:20251122T163000
DTSTAMP:20260422T151610
CREATED:20251023T002154Z
LAST-MODIFIED:20251023T002154Z
UID:10016090-1763825400-1763829000@womr.org
SUMMARY:Pilgrims Arrive!
DESCRIPTION:Presented by G. Thomas Ryan as part of a year long series\, God of Our Fathers: The Mighty Miracles of the American Revolution.  \nBefore they arrived at Plymouth\, the Pilgrims arrived in the midst of the Nauset Tribe and spent a month exploring the Outer Cape. History can describe trends over centuries and sharing the story through actual events allows all to appreciate the past through named men and women\, and even their inner-soul struggles. On November 21\, the events are truly local. The audience might then consider meanings for today as they come upon beaches and creeks\, named streets and schools\, and families who are descended from the Mayflower or Nauset – added depth for lived history.\nInfo: 508-240-2400 | artsempoweringlife.org FREE
URL:https://womr.org/event/pilgrims-arrive/
LOCATION:Performing Arts Building\, 95 Southern Eagle Cartway\, Brewster\, MA\, 02653\, United States
CATEGORIES:Talks
ATTACH;FMTTYPE=image/jpeg:https://womr.org/wp-content/uploads/2025/10/New-Pilgrims.jpg
GEO:41.7797451;-70.0123384
X-APPLE-STRUCTURED-LOCATION;VALUE=URI;X-ADDRESS=Performing Arts Building 95 Southern Eagle Cartway Brewster MA 02653 United States;X-APPLE-RADIUS=500;X-TITLE=95 Southern Eagle Cartway:geo:-70.0123384,41.7797451
END:VEVENT
END:VCALENDAR