BEGIN:VCALENDAR
VERSION:2.0
PRODID:-//WOMR - Outermost Community Radio - ECPv6.15.18//NONSGML v1.0//EN
CALSCALE:GREGORIAN
METHOD:PUBLISH
X-WR-CALNAME:WOMR - Outermost Community Radio
X-ORIGINAL-URL:https://womr.org
X-WR-CALDESC:Events for WOMR - Outermost Community Radio
REFRESH-INTERVAL;VALUE=DURATION:PT1H
X-Robots-Tag:noindex
X-PUBLISHED-TTL:PT1H
BEGIN:VTIMEZONE
TZID:America/New_York
BEGIN:DAYLIGHT
TZOFFSETFROM:-0500
TZOFFSETTO:-0400
TZNAME:EDT
DTSTART:20240310T070000
END:DAYLIGHT
BEGIN:STANDARD
TZOFFSETFROM:-0400
TZOFFSETTO:-0500
TZNAME:EST
DTSTART:20241103T060000
END:STANDARD
BEGIN:DAYLIGHT
TZOFFSETFROM:-0500
TZOFFSETTO:-0400
TZNAME:EDT
DTSTART:20250309T070000
END:DAYLIGHT
BEGIN:STANDARD
TZOFFSETFROM:-0400
TZOFFSETTO:-0500
TZNAME:EST
DTSTART:20251102T060000
END:STANDARD
BEGIN:DAYLIGHT
TZOFFSETFROM:-0500
TZOFFSETTO:-0400
TZNAME:EDT
DTSTART:20260308T070000
END:DAYLIGHT
BEGIN:STANDARD
TZOFFSETFROM:-0400
TZOFFSETTO:-0500
TZNAME:EST
DTSTART:20261101T060000
END:STANDARD
END:VTIMEZONE
BEGIN:VEVENT
DTSTART;TZID=America/New_York:20251207T153000
DTEND;TZID=America/New_York:20251207T163000
DTSTAMP:20260422T082904
CREATED:20251110T173939Z
LAST-MODIFIED:20251110T173939Z
UID:10016181-1765121400-1765125000@womr.org
SUMMARY:Ten Crucial Days: Crossing the Delaware and the Battles of Trenton and Princeton
DESCRIPTION:250th Anniversary Celebratory Lecture Series\nIn Person & Livestreamed from the Performing Arts Center\nJoin us as we celebrate our nations 250th Anniversary with a year-long a series of monthly lectures celebrating God’s miraculous acts during our nation’s fight for Independence. \nDecember 7\, 2025\, 3:30 PM\nPerforming Arts Center\, Brewster\nPresented by Roger Williams as part of a year-long series\, God of Our Fathers: The Mighty Miracles of the American Revolution.  Info: 508-240-2400 | artsempoweringlife.org FREE
URL:https://womr.org/event/ten-crucial-days-crossing-the-delaware-and-the-battles-of-trenton-and-princeton/
LOCATION:Performing Arts Building\, 95 Southern Eagle Cartway\, Brewster\, MA\, 02653\, United States
CATEGORIES:Talks
ATTACH;FMTTYPE=image/jpeg:https://womr.org/wp-content/uploads/2025/11/crossing-the-delaware.jpg
GEO:41.7797451;-70.0123384
X-APPLE-STRUCTURED-LOCATION;VALUE=URI;X-ADDRESS=Performing Arts Building 95 Southern Eagle Cartway Brewster MA 02653 United States;X-APPLE-RADIUS=500;X-TITLE=95 Southern Eagle Cartway:geo:-70.0123384,41.7797451
END:VEVENT
END:VCALENDAR