BEGIN:VCALENDAR
VERSION:2.0
PRODID:-//WOMR - Outermost Community Radio - ECPv6.15.18//NONSGML v1.0//EN
CALSCALE:GREGORIAN
METHOD:PUBLISH
X-WR-CALNAME:WOMR - Outermost Community Radio
X-ORIGINAL-URL:https://womr.org
X-WR-CALDESC:Events for WOMR - Outermost Community Radio
REFRESH-INTERVAL;VALUE=DURATION:PT1H
X-Robots-Tag:noindex
X-PUBLISHED-TTL:PT1H
BEGIN:VTIMEZONE
TZID:America/New_York
BEGIN:DAYLIGHT
TZOFFSETFROM:-0500
TZOFFSETTO:-0400
TZNAME:EDT
DTSTART:20240310T070000
END:DAYLIGHT
BEGIN:STANDARD
TZOFFSETFROM:-0400
TZOFFSETTO:-0500
TZNAME:EST
DTSTART:20241103T060000
END:STANDARD
BEGIN:DAYLIGHT
TZOFFSETFROM:-0500
TZOFFSETTO:-0400
TZNAME:EDT
DTSTART:20250309T070000
END:DAYLIGHT
BEGIN:STANDARD
TZOFFSETFROM:-0400
TZOFFSETTO:-0500
TZNAME:EST
DTSTART:20251102T060000
END:STANDARD
BEGIN:DAYLIGHT
TZOFFSETFROM:-0500
TZOFFSETTO:-0400
TZNAME:EDT
DTSTART:20260308T070000
END:DAYLIGHT
BEGIN:STANDARD
TZOFFSETFROM:-0400
TZOFFSETTO:-0500
TZNAME:EST
DTSTART:20261101T060000
END:STANDARD
END:VTIMEZONE
BEGIN:VEVENT
DTSTART;TZID=America/New_York:20250909T170000
DTEND;TZID=America/New_York:20250909T180000
DTSTAMP:20260423T081209
CREATED:20250820T191744Z
LAST-MODIFIED:20250820T191744Z
UID:10015412-1757437200-1757440800@womr.org
SUMMARY:Tuesday Talks: Dr. Michael Pregot: Slavery and Abolitionism on Cape Cod
DESCRIPTION:Join us for our September ‘Tuesday Talks’ lecture on Tuesday\, 09/09\, at 5pm with Dr. Michael Pregot. Dr. Pregot will be discussing his new book\, Slavery and Abolitionism on Cape Cod. Books will be available for purchase and signing afterwards.\nMichael Pregot is an educator\, writer\, and admirer of local history. Dr. Pregot has intensely researched this subject to create a comprehensive examination of this often-overlooked part of Cape Cod history. The book discusses religious views\, political platforms\, economic factors\, and social movements that existed during the pre-Civil War period to help readers gain insight into the mindset of the era. It also highlights several profiles of notable Black enslaved individuals living in Massachusetts and demonstrates the enormous contributions they made to the overall growth of our state and country.
URL:https://womr.org/event/tuesday-talks-dr-michael-pregot-slavery-and-abolitionism-on-cape-cod/
LOCATION:Atwood House Museum\, 347 Stage Harbor Rd\, Chatham\, MA\, 02633\, United States
CATEGORIES:Galleries,Libraries,Museums,Talks
ATTACH;FMTTYPE=image/png:https://womr.org/wp-content/uploads/2025/08/Michael-Pregot.png
ORGANIZER;CN="Atwood Museum and Chatham Historical Society":MAILTO:info@chathamhistoricalsociety.org
GEO:41.6735189;-69.9651068
X-APPLE-STRUCTURED-LOCATION;VALUE=URI;X-ADDRESS=Atwood House Museum 347 Stage Harbor Rd Chatham MA 02633 United States;X-APPLE-RADIUS=500;X-TITLE=347 Stage Harbor Rd:geo:-69.9651068,41.6735189
END:VEVENT
END:VCALENDAR