BEGIN:VCALENDAR
VERSION:2.0
PRODID:-//WOMR - Outermost Community Radio - ECPv6.15.18//NONSGML v1.0//EN
CALSCALE:GREGORIAN
METHOD:PUBLISH
X-ORIGINAL-URL:https://womr.org
X-WR-CALDESC:Events for WOMR - Outermost Community Radio
REFRESH-INTERVAL;VALUE=DURATION:PT1H
X-Robots-Tag:noindex
X-PUBLISHED-TTL:PT1H
BEGIN:VTIMEZONE
TZID:America/New_York
BEGIN:DAYLIGHT
TZOFFSETFROM:-0500
TZOFFSETTO:-0400
TZNAME:EDT
DTSTART:20240310T070000
END:DAYLIGHT
BEGIN:STANDARD
TZOFFSETFROM:-0400
TZOFFSETTO:-0500
TZNAME:EST
DTSTART:20241103T060000
END:STANDARD
BEGIN:DAYLIGHT
TZOFFSETFROM:-0500
TZOFFSETTO:-0400
TZNAME:EDT
DTSTART:20250309T070000
END:DAYLIGHT
BEGIN:STANDARD
TZOFFSETFROM:-0400
TZOFFSETTO:-0500
TZNAME:EST
DTSTART:20251102T060000
END:STANDARD
BEGIN:DAYLIGHT
TZOFFSETFROM:-0500
TZOFFSETTO:-0400
TZNAME:EDT
DTSTART:20260308T070000
END:DAYLIGHT
BEGIN:STANDARD
TZOFFSETFROM:-0400
TZOFFSETTO:-0500
TZNAME:EST
DTSTART:20261101T060000
END:STANDARD
END:VTIMEZONE
BEGIN:VEVENT
DTSTART;TZID=America/New_York:20251129T100000
DTEND;TZID=America/New_York:20251129T150000
DTSTAMP:20260419T131432
CREATED:20251118T190300Z
LAST-MODIFIED:20251118T190300Z
UID:10016192-1764410400-1764428400@womr.org
SUMMARY:Friends of Snow Library All-Day Book Sale
DESCRIPTION:The Friends of Snow Library Holiday All-day Book Sale is on Saturday\, November 29\, at the Snow Library in Orleans. \nThe sale will open at 10am and last till 3pm\, in the Craine Room as well as downstairs in the Friends Room. Holiday books\, cookbooks\, histories and mysteries\, CDs\, DVDs\, and books for children of all ages will be ready to go. \nA trip to the Book Sale is a great way to get the family out of the house on the holiday weekend.  Get a start on your holiday shopping\, by supporting the Snow Library!    \nA book is a gift they’ll open again and again.
URL:https://womr.org/event/friends-of-snow-library-all-day-book-sale/
LOCATION:Snow Library\, Main St. \, Orleans\, MA\, 02653\, United States
CATEGORIES:Libraries
ATTACH;FMTTYPE=image/jpeg:https://womr.org/wp-content/uploads/2025/11/2018-Holiday-Book-Sale0100-3066124673.jpg
ORGANIZER;CN="Friends of Snow Library (Orleans)":MAILTO:christrati@xc.org
GEO:41.783483;-69.9802994
X-APPLE-STRUCTURED-LOCATION;VALUE=URI;X-ADDRESS=Snow Library Main St.  Orleans MA 02653 United States;X-APPLE-RADIUS=500;X-TITLE=Main St.:geo:-69.9802994,41.783483
END:VEVENT
END:VCALENDAR