BEGIN:VCALENDAR
VERSION:2.0
PRODID:-//WOMR - Outermost Community Radio - ECPv6.15.18//NONSGML v1.0//EN
CALSCALE:GREGORIAN
METHOD:PUBLISH
X-ORIGINAL-URL:https://womr.org
X-WR-CALDESC:Events for WOMR - Outermost Community Radio
REFRESH-INTERVAL;VALUE=DURATION:PT1H
X-Robots-Tag:noindex
X-PUBLISHED-TTL:PT1H
BEGIN:VTIMEZONE
TZID:America/New_York
BEGIN:DAYLIGHT
TZOFFSETFROM:-0500
TZOFFSETTO:-0400
TZNAME:EDT
DTSTART:20250309T070000
END:DAYLIGHT
BEGIN:STANDARD
TZOFFSETFROM:-0400
TZOFFSETTO:-0500
TZNAME:EST
DTSTART:20251102T060000
END:STANDARD
BEGIN:DAYLIGHT
TZOFFSETFROM:-0500
TZOFFSETTO:-0400
TZNAME:EDT
DTSTART:20260308T070000
END:DAYLIGHT
BEGIN:STANDARD
TZOFFSETFROM:-0400
TZOFFSETTO:-0500
TZNAME:EST
DTSTART:20261101T060000
END:STANDARD
BEGIN:DAYLIGHT
TZOFFSETFROM:-0500
TZOFFSETTO:-0400
TZNAME:EDT
DTSTART:20270314T070000
END:DAYLIGHT
BEGIN:STANDARD
TZOFFSETFROM:-0400
TZOFFSETTO:-0500
TZNAME:EST
DTSTART:20271107T060000
END:STANDARD
END:VTIMEZONE
BEGIN:VEVENT
DTSTART;TZID=America/New_York:20260107T160000
DTEND;TZID=America/New_York:20260107T170000
DTSTAMP:20260422T172447
CREATED:20251229T151341Z
LAST-MODIFIED:20251229T151341Z
UID:10016502-1767801600-1767805200@womr.org
SUMMARY:43rd Re-=Rooters Day Ceremony
DESCRIPTION:In the darkest days and the darkest nights of a New England winter and a national malaise\, after the “Twelve Days of Stockpiling” of the consumptive holidays\, an assembly of people will  cluster together on the sand flats in Provincetown Harbor to sing\, chant and purge personal\, political and psychic detritus from the previous year. It’s January 7\, 2026 and the president of the IRS (International Re-Rooters Society)\, Jay Critchley\, will once again officiate over this deep-rooted\, historic\, global ritual – 4:00 pm\, Breakwater Hotel\, East End\, Provincetown Harbor. \nThe ceremony is open to the public who are requested to bring something non-toxic to burn on the tree/boat. \nThis post-Christmas\, post-consumptive binging start up was born in 1983 at the Provincetown dump when Critchley created a forest of discarded Christmas trees and stood them up in the piles of wrapping paper\, ribbons\, turkey bones and garbage.  For 42 years\, the annual community ritual has been enacted in Provincetown Harbor on January 7\, a purging of political and personal distress from the year gone by. The mission of the IRS is to re-root to and embrace the earth body and all of our human and more-than-human relatives. \nIn preparation for the 43rd Re-Rooters Day Ceremony\, the artist  builds a makeshift boat and compiles words\, ideas and extrapolates from the evolving language of the year from various media sources and writings\, beginning in the fall. The words form the basis of the theme and content of the ceremony\, culminating in the “Ten Commandments” call and response.
URL:https://womr.org/event/43rd-re-rooters-day-ceremony/
LOCATION:Harbor Hotel\, 698 Commercial Street\, Provincetown
CATEGORIES:Municipal Events,Poetry,Theater
ATTACH;FMTTYPE=image/jpeg:https://womr.org/wp-content/uploads/2025/12/Re-Rooters-2023.Nancy-Bloom-7377-e1767021215642.jpg
ORGANIZER;CN="Jay Critchley":MAILTO:reroot@comcast.net
GEO:42.0619429;-70.1617205
X-APPLE-STRUCTURED-LOCATION;VALUE=URI;X-ADDRESS=Harbor Hotel 698 Commercial Street Provincetown;X-APPLE-RADIUS=500;X-TITLE=698 Commercial Street:geo:-70.1617205,42.0619429
END:VEVENT
BEGIN:VEVENT
DTSTART;TZID=America/New_York:20260108T193000
DTEND;TZID=America/New_York:20260108T213000
DTSTAMP:20260422T172447
CREATED:20251129T182645Z
LAST-MODIFIED:20251129T183038Z
UID:10016262-1767900600-1767907800@womr.org
SUMMARY:DON'T DRESS FOR DINNER
DESCRIPTION:Hilarity is on the menu in DON’T DRESS FOR DINNER at the BCC \nThe Barnstable Comedy Club proudly presents DON’T DRESS FOR DINNER\, a comedic farce by Marc Camoletti\, adapted by Robin Hawdon. The show opens on Thursday\, January 8 and continues for 3 weekend through January 25 on Friday and Saturday evenings at 7:30 PM with Sunday matinee performances at 2:30PM. General admission tickets are $30 / $28 for seniors 65+ and students. Tickets and information are available online at www.barnstablecomedyclub.org or by calling the box office at 508-362-6333. \nUnder the direction of Alex Lucchesi\, the cast includes Ricky Bourgeois. Camila Ellis\, Emma Anne Fahle\, Charles McDougal\, Jesse Romano and April Womble. Kayleigh Mason is the stage manager. \nThe tasty shenanigans involve Bernard\, who’s got romance on his mind. With his wife out of town\, an alibi from his best friend and a gourmet chef to add culinary spice\, the determined Bernard has the perfect evening planned for his French mistress – or so he thinks. But hidden identities and outrageous identities cause his best laid plans to go off track in the clever comedic ride. \nDon’t Dress for Dinner is presented by arrangement with Concord Theatricals on behalf of Samuel French\, Inc. www.ConcordTheatricals.com
URL:https://womr.org/event/dont-dress-for-dinner-5/
LOCATION:Barnstable Comedy Club\, 3171 Route 6A\, Barnstable\, MA\, 02630\, United States
CATEGORIES:Theater
ATTACH;FMTTYPE=image/jpeg:https://womr.org/wp-content/uploads/2025/11/POSTER-DONT-DRESS-FOR-DINNER-MEDIA-scaled-e1764441033180.jpg
ORGANIZER;CN="Barnstable Comedy Club":MAILTO:barnstablecomedyclub@comcast.net
GEO:41.702134;-70.3054982
X-APPLE-STRUCTURED-LOCATION;VALUE=URI;X-ADDRESS=Barnstable Comedy Club 3171 Route 6A Barnstable MA 02630 United States;X-APPLE-RADIUS=500;X-TITLE=3171 Route 6A:geo:-70.3054982,41.702134
END:VEVENT
BEGIN:VEVENT
DTSTART;TZID=America/New_York:20260109T193000
DTEND;TZID=America/New_York:20260109T213000
DTSTAMP:20260422T172447
CREATED:20251129T182645Z
LAST-MODIFIED:20251129T183002Z
UID:10016263-1767987000-1767994200@womr.org
SUMMARY:DON'T DRESS FOR DINNER
DESCRIPTION:Hilarity is on the menu in DON’T DRESS FOR DINNER at the BCC \nThe Barnstable Comedy Club proudly presents DON’T DRESS FOR DINNER\, a comedic farce by Marc Camoletti\, adapted by Robin Hawdon. The show opens on Thursday\, January 8 and continues for 3 weekend through January 25 on Friday and Saturday evenings at 7:30 PM with Sunday matinee performances at 2:30PM. General admission tickets are $30 / $28 for seniors 65+ and students. Tickets and information are available online at www.barnstablecomedyclub.org or by calling the box office at 508-362-6333. \nUnder the direction of Alex Lucchesi\, the cast includes Ricky Bourgeois. Camila Ellis\, Emma Anne Fahle\, Charles McDougal\, Jesse Romano and April Womble. Kayleigh Mason is the stage manager. \nThe tasty shenanigans involve Bernard\, who’s got romance on his mind. With his wife out of town\, an alibi from his best friend and a gourmet chef to add culinary spice\, the determined Bernard has the perfect evening planned for his French mistress – or so he thinks. But hidden identities and outrageous identities cause his best laid plans to go off track in the clever comedic ride. \nDon’t Dress for Dinner is presented by arrangement with Concord Theatricals on behalf of Samuel French\, Inc. www.ConcordTheatricals.com
URL:https://womr.org/event/dont-dress-for-dinner-4/
LOCATION:Barnstable Comedy Club\, 3171 Route 6A\, Barnstable\, MA\, 02630\, United States
CATEGORIES:Theater
ATTACH;FMTTYPE=image/jpeg:https://womr.org/wp-content/uploads/2025/11/POSTER-DONT-DRESS-FOR-DINNER-MEDIA-1-scaled-e1764440997416.jpg
ORGANIZER;CN="Barnstable Comedy Club":MAILTO:barnstablecomedyclub@comcast.net
GEO:41.702134;-70.3054982
X-APPLE-STRUCTURED-LOCATION;VALUE=URI;X-ADDRESS=Barnstable Comedy Club 3171 Route 6A Barnstable MA 02630 United States;X-APPLE-RADIUS=500;X-TITLE=3171 Route 6A:geo:-70.3054982,41.702134
END:VEVENT
BEGIN:VEVENT
DTSTART;TZID=America/New_York:20260110T193000
DTEND;TZID=America/New_York:20260110T213000
DTSTAMP:20260422T172447
CREATED:20251129T182645Z
LAST-MODIFIED:20251129T182928Z
UID:10016264-1768073400-1768080600@womr.org
SUMMARY:DON'T DRESS FOR DINNER
DESCRIPTION:Hilarity is on the menu in DON’T DRESS FOR DINNER at the BCC \nThe Barnstable Comedy Club proudly presents DON’T DRESS FOR DINNER\, a comedic farce by Marc Camoletti\, adapted by Robin Hawdon. The show opens on Thursday\, January 8 and continues for 3 weekend through January 25 on Friday and Saturday evenings at 7:30 PM with Sunday matinee performances at 2:30PM. General admission tickets are $30 / $28 for seniors 65+ and students. Tickets and information are available online at www.barnstablecomedyclub.org or by calling the box office at 508-362-6333. \nUnder the direction of Alex Lucchesi\, the cast includes Ricky Bourgeois. Camila Ellis\, Emma Anne Fahle\, Charles McDougal\, Jesse Romano and April Womble. Kayleigh Mason is the stage manager. \nThe tasty shenanigans involve Bernard\, who’s got romance on his mind. With his wife out of town\, an alibi from his best friend and a gourmet chef to add culinary spice\, the determined Bernard has the perfect evening planned for his French mistress – or so he thinks. But hidden identities and outrageous identities cause his best laid plans to go off track in the clever comedic ride. \nDon’t Dress for Dinner is presented by arrangement with Concord Theatricals on behalf of Samuel French\, Inc. www.ConcordTheatricals.com
URL:https://womr.org/event/dont-dress-for-dinner-3/
LOCATION:Barnstable Comedy Club\, 3171 Route 6A\, Barnstable\, MA\, 02630\, United States
CATEGORIES:Theater
ATTACH;FMTTYPE=image/jpeg:https://womr.org/wp-content/uploads/2025/11/POSTER-DONT-DRESS-FOR-DINNER-MEDIA-2-scaled-e1764440964386.jpg
ORGANIZER;CN="Barnstable Comedy Club":MAILTO:barnstablecomedyclub@comcast.net
GEO:41.702134;-70.3054982
X-APPLE-STRUCTURED-LOCATION;VALUE=URI;X-ADDRESS=Barnstable Comedy Club 3171 Route 6A Barnstable MA 02630 United States;X-APPLE-RADIUS=500;X-TITLE=3171 Route 6A:geo:-70.3054982,41.702134
END:VEVENT
BEGIN:VEVENT
DTSTART;TZID=America/New_York:20260111T143000
DTEND;TZID=America/New_York:20260111T163000
DTSTAMP:20260422T172447
CREATED:20251129T182645Z
LAST-MODIFIED:20251201T140027Z
UID:10016265-1768141800-1768149000@womr.org
SUMMARY:DON'T DRESS FOR DINNER
DESCRIPTION:Hilarity is on the menu in DON’T DRESS FOR DINNER at the BCC \nThe Barnstable Comedy Club proudly presents DON’T DRESS FOR DINNER\, a comedic farce by Marc Camoletti\, adapted by Robin Hawdon. The show opens on Thursday\, January 8 and continues for 3 weekend through January 25 on Friday and Saturday evenings at 7:30 PM with Sunday matinee performances at 2:30PM. General admission tickets are $30 / $28 for seniors 65+ and students. Tickets and information are available online at www.barnstablecomedyclub.org or by calling the box office at 508-362-6333. \nUnder the direction of Alex Lucchesi\, the cast includes Ricky Bourgeois. Camila Ellis\, Emma Anne Fahle\, Charles McDougal\, Jesse Romano and April Womble. Kayleigh Mason is the stage manager. \nThe tasty shenanigans involve Bernard\, who’s got romance on his mind. With his wife out of town\, an alibi from his best friend and a gourmet chef to add culinary spice\, the determined Bernard has the perfect evening planned for his French mistress – or so he thinks. But hidden identities and outrageous identities cause his best laid plans to go off track in the clever comedic ride. \nDon’t Dress for Dinner is presented by arrangement with Concord Theatricals on behalf of Samuel French\, Inc. www.ConcordTheatricals.com
URL:https://womr.org/event/dont-dress-for-dinner-2/2026-01-11/
LOCATION:Barnstable Comedy Club\, 3171 Route 6A\, Barnstable\, MA\, 02630\, United States
CATEGORIES:Theater
ATTACH;FMTTYPE=image/jpeg:https://womr.org/wp-content/uploads/2025/11/POSTER-DONT-DRESS-FOR-DINNER-MEDIA-3-scaled-e1764440918640.jpg
ORGANIZER;CN="Barnstable Comedy Club":MAILTO:barnstablecomedyclub@comcast.net
GEO:41.702134;-70.3054982
X-APPLE-STRUCTURED-LOCATION;VALUE=URI;X-ADDRESS=Barnstable Comedy Club 3171 Route 6A Barnstable MA 02630 United States;X-APPLE-RADIUS=500;X-TITLE=3171 Route 6A:geo:-70.3054982,41.702134
END:VEVENT
BEGIN:VEVENT
DTSTART;TZID=America/New_York:20260116T193000
DTEND;TZID=America/New_York:20260116T213000
DTSTAMP:20260422T172447
CREATED:20251129T182645Z
LAST-MODIFIED:20251201T135932Z
UID:10016320-1768591800-1768599000@womr.org
SUMMARY:DON'T DRESS FOR DINNER
DESCRIPTION:Hilarity is on the menu in DON’T DRESS FOR DINNER at the BCC \nThe Barnstable Comedy Club proudly presents DON’T DRESS FOR DINNER\, a comedic farce by Marc Camoletti\, adapted by Robin Hawdon. The show opens on Thursday\, January 8 and continues for 3 weekends through January 25 on Friday and Saturday evenings at 7:30 PM with Sunday matinee performances at 2:30PM. General admission tickets are $30 / $28 for seniors 65+ and students. Tickets and information are available online at www.barnstablecomedyclub.org or by calling the box office at 508-362-6333. \nUnder the direction of Alex Lucchesi\, the cast includes Ricky Bourgeois. Camila Ellis\, Emma Anne Fahle\, Charles McDougal\, Jesse Romano and April Womble. Kayleigh Mason is the stage manager. \nThe tasty shenanigans involve Bernard\, who’s got romance on his mind. With his wife out of town\, an alibi from his best friend and a gourmet chef to add culinary spice\, the determined Bernard has the perfect evening planned for his French mistress – or so he thinks. But hidden identities and outrageous identities cause his best laid plans to go off track in the clever comedic ride. \nDon’t Dress for Dinner is presented by arrangement with Concord Theatricals on behalf of Samuel French\, Inc. www.ConcordTheatricals.com
URL:https://womr.org/event/dont-dress-for-dinner/2026-01-16/
LOCATION:Barnstable Comedy Club\, 3171 Route 6A\, Barnstable\, MA\, 02630\, United States
CATEGORIES:Theater
ATTACH;FMTTYPE=image/jpeg:https://womr.org/wp-content/uploads/2025/11/POSTER-DONT-DRESS-FOR-DINNER-MEDIA-4-scaled-e1764440861192.jpg
ORGANIZER;CN="Barnstable Comedy Club":MAILTO:barnstablecomedyclub@comcast.net
GEO:41.702134;-70.3054982
X-APPLE-STRUCTURED-LOCATION;VALUE=URI;X-ADDRESS=Barnstable Comedy Club 3171 Route 6A Barnstable MA 02630 United States;X-APPLE-RADIUS=500;X-TITLE=3171 Route 6A:geo:-70.3054982,41.702134
END:VEVENT
BEGIN:VEVENT
DTSTART;TZID=America/New_York:20260117T163000
DTEND;TZID=America/New_York:20260117T183000
DTSTAMP:20260422T172447
CREATED:20251229T151226Z
LAST-MODIFIED:20251229T151255Z
UID:10016503-1768667400-1768674600@womr.org
SUMMARY:The Boar’s Head Festival
DESCRIPTION:Join us on an historic  journey from Medieval Times through the Epiphany featuring dramatic pageantry\, stunning music \, humor and live animals! \nThe Boar’s Head Festival\, under the direction of Jim Byrne\, returns to the South Harwich Meetinghouse! Come share in our magical gift of the Season! Brilliant actors\, musicians\, voices & animals will bring us on this historic journey from Medieval times through the Epiphany. Two Performances ~Saturday\, January 17th at 4:30 pm & Sunday\, January 18th at 4:30 pm.. Tickets are $30 for adults & $15 for students. Tickets are available at www.southharwichmeetinghouse.com or at the Door while they last! \nThe beautifully restored 1836 South Harwich Meetinghouse located at 270 Chatham Rd\, Harwich\, MA\, with its candlelit ambience & unparalleled acoustics is the perfect venue for this unforgettable Winter celebration!  Don’t miss it!  For further information\, call 508 364-5223.
URL:https://womr.org/event/the-boars-head-festival/2026-01-17/
LOCATION:South Harwich Meetinghouse\, 270 Chatham Road\, South Harwich\, MA\, 02645\, United States
CATEGORIES:Music,Theater
ATTACH;FMTTYPE=image/png:https://womr.org/wp-content/uploads/2025/12/The-Boars-Head-Festival-2026-e1767021166992.png
ORGANIZER;CN="Friends of the South Harwich Meetinghouse":MAILTO:shmeetinghouse@gmail.com
GEO:41.6780203;-70.0465692
X-APPLE-STRUCTURED-LOCATION;VALUE=URI;X-ADDRESS=South Harwich Meetinghouse 270 Chatham Road South Harwich MA 02645 United States;X-APPLE-RADIUS=500;X-TITLE=270 Chatham Road:geo:-70.0465692,41.6780203
END:VEVENT
BEGIN:VEVENT
DTSTART;TZID=America/New_York:20260117T193000
DTEND;TZID=America/New_York:20260117T213000
DTSTAMP:20260422T172447
CREATED:20251129T182645Z
LAST-MODIFIED:20251201T135932Z
UID:10016284-1768678200-1768685400@womr.org
SUMMARY:DON'T DRESS FOR DINNER
DESCRIPTION:Hilarity is on the menu in DON’T DRESS FOR DINNER at the BCC \nThe Barnstable Comedy Club proudly presents DON’T DRESS FOR DINNER\, a comedic farce by Marc Camoletti\, adapted by Robin Hawdon. The show opens on Thursday\, January 8 and continues for 3 weekends through January 25 on Friday and Saturday evenings at 7:30 PM with Sunday matinee performances at 2:30PM. General admission tickets are $30 / $28 for seniors 65+ and students. Tickets and information are available online at www.barnstablecomedyclub.org or by calling the box office at 508-362-6333. \nUnder the direction of Alex Lucchesi\, the cast includes Ricky Bourgeois. Camila Ellis\, Emma Anne Fahle\, Charles McDougal\, Jesse Romano and April Womble. Kayleigh Mason is the stage manager. \nThe tasty shenanigans involve Bernard\, who’s got romance on his mind. With his wife out of town\, an alibi from his best friend and a gourmet chef to add culinary spice\, the determined Bernard has the perfect evening planned for his French mistress – or so he thinks. But hidden identities and outrageous identities cause his best laid plans to go off track in the clever comedic ride. \nDon’t Dress for Dinner is presented by arrangement with Concord Theatricals on behalf of Samuel French\, Inc. www.ConcordTheatricals.com
URL:https://womr.org/event/dont-dress-for-dinner/2026-01-17/
LOCATION:Barnstable Comedy Club\, 3171 Route 6A\, Barnstable\, MA\, 02630\, United States
CATEGORIES:Theater
ATTACH;FMTTYPE=image/jpeg:https://womr.org/wp-content/uploads/2025/11/POSTER-DONT-DRESS-FOR-DINNER-MEDIA-4-scaled-e1764440861192.jpg
ORGANIZER;CN="Barnstable Comedy Club":MAILTO:barnstablecomedyclub@comcast.net
GEO:41.702134;-70.3054982
X-APPLE-STRUCTURED-LOCATION;VALUE=URI;X-ADDRESS=Barnstable Comedy Club 3171 Route 6A Barnstable MA 02630 United States;X-APPLE-RADIUS=500;X-TITLE=3171 Route 6A:geo:-70.3054982,41.702134
END:VEVENT
BEGIN:VEVENT
DTSTART;TZID=America/New_York:20260118T143000
DTEND;TZID=America/New_York:20260118T163000
DTSTAMP:20260422T172447
CREATED:20251129T182645Z
LAST-MODIFIED:20251201T140027Z
UID:10016321-1768746600-1768753800@womr.org
SUMMARY:DON'T DRESS FOR DINNER
DESCRIPTION:Hilarity is on the menu in DON’T DRESS FOR DINNER at the BCC \nThe Barnstable Comedy Club proudly presents DON’T DRESS FOR DINNER\, a comedic farce by Marc Camoletti\, adapted by Robin Hawdon. The show opens on Thursday\, January 8 and continues for 3 weekend through January 25 on Friday and Saturday evenings at 7:30 PM with Sunday matinee performances at 2:30PM. General admission tickets are $30 / $28 for seniors 65+ and students. Tickets and information are available online at www.barnstablecomedyclub.org or by calling the box office at 508-362-6333. \nUnder the direction of Alex Lucchesi\, the cast includes Ricky Bourgeois. Camila Ellis\, Emma Anne Fahle\, Charles McDougal\, Jesse Romano and April Womble. Kayleigh Mason is the stage manager. \nThe tasty shenanigans involve Bernard\, who’s got romance on his mind. With his wife out of town\, an alibi from his best friend and a gourmet chef to add culinary spice\, the determined Bernard has the perfect evening planned for his French mistress – or so he thinks. But hidden identities and outrageous identities cause his best laid plans to go off track in the clever comedic ride. \nDon’t Dress for Dinner is presented by arrangement with Concord Theatricals on behalf of Samuel French\, Inc. www.ConcordTheatricals.com
URL:https://womr.org/event/dont-dress-for-dinner-2/2026-01-18/
LOCATION:Barnstable Comedy Club\, 3171 Route 6A\, Barnstable\, MA\, 02630\, United States
CATEGORIES:Theater
ATTACH;FMTTYPE=image/jpeg:https://womr.org/wp-content/uploads/2025/11/POSTER-DONT-DRESS-FOR-DINNER-MEDIA-3-scaled-e1764440918640.jpg
ORGANIZER;CN="Barnstable Comedy Club":MAILTO:barnstablecomedyclub@comcast.net
GEO:41.702134;-70.3054982
X-APPLE-STRUCTURED-LOCATION;VALUE=URI;X-ADDRESS=Barnstable Comedy Club 3171 Route 6A Barnstable MA 02630 United States;X-APPLE-RADIUS=500;X-TITLE=3171 Route 6A:geo:-70.3054982,41.702134
END:VEVENT
BEGIN:VEVENT
DTSTART;TZID=America/New_York:20260118T163000
DTEND;TZID=America/New_York:20260118T183000
DTSTAMP:20260422T172447
CREATED:20251229T151226Z
LAST-MODIFIED:20251229T151255Z
UID:10016504-1768753800-1768761000@womr.org
SUMMARY:The Boar’s Head Festival
DESCRIPTION:Join us on an historic  journey from Medieval Times through the Epiphany featuring dramatic pageantry\, stunning music \, humor and live animals! \nThe Boar’s Head Festival\, under the direction of Jim Byrne\, returns to the South Harwich Meetinghouse! Come share in our magical gift of the Season! Brilliant actors\, musicians\, voices & animals will bring us on this historic journey from Medieval times through the Epiphany. Two Performances ~Saturday\, January 17th at 4:30 pm & Sunday\, January 18th at 4:30 pm.. Tickets are $30 for adults & $15 for students. Tickets are available at www.southharwichmeetinghouse.com or at the Door while they last! \nThe beautifully restored 1836 South Harwich Meetinghouse located at 270 Chatham Rd\, Harwich\, MA\, with its candlelit ambience & unparalleled acoustics is the perfect venue for this unforgettable Winter celebration!  Don’t miss it!  For further information\, call 508 364-5223.
URL:https://womr.org/event/the-boars-head-festival/2026-01-18/
LOCATION:South Harwich Meetinghouse\, 270 Chatham Road\, South Harwich\, MA\, 02645\, United States
CATEGORIES:Music,Theater
ATTACH;FMTTYPE=image/png:https://womr.org/wp-content/uploads/2025/12/The-Boars-Head-Festival-2026-e1767021166992.png
ORGANIZER;CN="Friends of the South Harwich Meetinghouse":MAILTO:shmeetinghouse@gmail.com
GEO:41.6780203;-70.0465692
X-APPLE-STRUCTURED-LOCATION;VALUE=URI;X-ADDRESS=South Harwich Meetinghouse 270 Chatham Road South Harwich MA 02645 United States;X-APPLE-RADIUS=500;X-TITLE=270 Chatham Road:geo:-70.0465692,41.6780203
END:VEVENT
BEGIN:VEVENT
DTSTART;TZID=America/New_York:20260123T193000
DTEND;TZID=America/New_York:20260123T213000
DTSTAMP:20260422T172447
CREATED:20251129T182645Z
LAST-MODIFIED:20251201T135932Z
UID:10016318-1769196600-1769203800@womr.org
SUMMARY:DON'T DRESS FOR DINNER
DESCRIPTION:Hilarity is on the menu in DON’T DRESS FOR DINNER at the BCC \nThe Barnstable Comedy Club proudly presents DON’T DRESS FOR DINNER\, a comedic farce by Marc Camoletti\, adapted by Robin Hawdon. The show opens on Thursday\, January 8 and continues for 3 weekends through January 25 on Friday and Saturday evenings at 7:30 PM with Sunday matinee performances at 2:30PM. General admission tickets are $30 / $28 for seniors 65+ and students. Tickets and information are available online at www.barnstablecomedyclub.org or by calling the box office at 508-362-6333. \nUnder the direction of Alex Lucchesi\, the cast includes Ricky Bourgeois. Camila Ellis\, Emma Anne Fahle\, Charles McDougal\, Jesse Romano and April Womble. Kayleigh Mason is the stage manager. \nThe tasty shenanigans involve Bernard\, who’s got romance on his mind. With his wife out of town\, an alibi from his best friend and a gourmet chef to add culinary spice\, the determined Bernard has the perfect evening planned for his French mistress – or so he thinks. But hidden identities and outrageous identities cause his best laid plans to go off track in the clever comedic ride. \nDon’t Dress for Dinner is presented by arrangement with Concord Theatricals on behalf of Samuel French\, Inc. www.ConcordTheatricals.com
URL:https://womr.org/event/dont-dress-for-dinner/2026-01-23/
LOCATION:Barnstable Comedy Club\, 3171 Route 6A\, Barnstable\, MA\, 02630\, United States
CATEGORIES:Theater
ATTACH;FMTTYPE=image/jpeg:https://womr.org/wp-content/uploads/2025/11/POSTER-DONT-DRESS-FOR-DINNER-MEDIA-4-scaled-e1764440861192.jpg
ORGANIZER;CN="Barnstable Comedy Club":MAILTO:barnstablecomedyclub@comcast.net
GEO:41.702134;-70.3054982
X-APPLE-STRUCTURED-LOCATION;VALUE=URI;X-ADDRESS=Barnstable Comedy Club 3171 Route 6A Barnstable MA 02630 United States;X-APPLE-RADIUS=500;X-TITLE=3171 Route 6A:geo:-70.3054982,41.702134
END:VEVENT
BEGIN:VEVENT
DTSTART;TZID=America/New_York:20260124T193000
DTEND;TZID=America/New_York:20260124T213000
DTSTAMP:20260422T172447
CREATED:20251129T182645Z
LAST-MODIFIED:20251201T135932Z
UID:10016319-1769283000-1769290200@womr.org
SUMMARY:DON'T DRESS FOR DINNER
DESCRIPTION:Hilarity is on the menu in DON’T DRESS FOR DINNER at the BCC \nThe Barnstable Comedy Club proudly presents DON’T DRESS FOR DINNER\, a comedic farce by Marc Camoletti\, adapted by Robin Hawdon. The show opens on Thursday\, January 8 and continues for 3 weekends through January 25 on Friday and Saturday evenings at 7:30 PM with Sunday matinee performances at 2:30PM. General admission tickets are $30 / $28 for seniors 65+ and students. Tickets and information are available online at www.barnstablecomedyclub.org or by calling the box office at 508-362-6333. \nUnder the direction of Alex Lucchesi\, the cast includes Ricky Bourgeois. Camila Ellis\, Emma Anne Fahle\, Charles McDougal\, Jesse Romano and April Womble. Kayleigh Mason is the stage manager. \nThe tasty shenanigans involve Bernard\, who’s got romance on his mind. With his wife out of town\, an alibi from his best friend and a gourmet chef to add culinary spice\, the determined Bernard has the perfect evening planned for his French mistress – or so he thinks. But hidden identities and outrageous identities cause his best laid plans to go off track in the clever comedic ride. \nDon’t Dress for Dinner is presented by arrangement with Concord Theatricals on behalf of Samuel French\, Inc. www.ConcordTheatricals.com
URL:https://womr.org/event/dont-dress-for-dinner/2026-01-24/
LOCATION:Barnstable Comedy Club\, 3171 Route 6A\, Barnstable\, MA\, 02630\, United States
CATEGORIES:Theater
ATTACH;FMTTYPE=image/jpeg:https://womr.org/wp-content/uploads/2025/11/POSTER-DONT-DRESS-FOR-DINNER-MEDIA-4-scaled-e1764440861192.jpg
ORGANIZER;CN="Barnstable Comedy Club":MAILTO:barnstablecomedyclub@comcast.net
GEO:41.702134;-70.3054982
X-APPLE-STRUCTURED-LOCATION;VALUE=URI;X-ADDRESS=Barnstable Comedy Club 3171 Route 6A Barnstable MA 02630 United States;X-APPLE-RADIUS=500;X-TITLE=3171 Route 6A:geo:-70.3054982,41.702134
END:VEVENT
BEGIN:VEVENT
DTSTART;TZID=America/New_York:20260125T143000
DTEND;TZID=America/New_York:20260125T163000
DTSTAMP:20260422T172447
CREATED:20251129T182645Z
LAST-MODIFIED:20251201T140027Z
UID:10016322-1769351400-1769358600@womr.org
SUMMARY:DON'T DRESS FOR DINNER
DESCRIPTION:Hilarity is on the menu in DON’T DRESS FOR DINNER at the BCC \nThe Barnstable Comedy Club proudly presents DON’T DRESS FOR DINNER\, a comedic farce by Marc Camoletti\, adapted by Robin Hawdon. The show opens on Thursday\, January 8 and continues for 3 weekend through January 25 on Friday and Saturday evenings at 7:30 PM with Sunday matinee performances at 2:30PM. General admission tickets are $30 / $28 for seniors 65+ and students. Tickets and information are available online at www.barnstablecomedyclub.org or by calling the box office at 508-362-6333. \nUnder the direction of Alex Lucchesi\, the cast includes Ricky Bourgeois. Camila Ellis\, Emma Anne Fahle\, Charles McDougal\, Jesse Romano and April Womble. Kayleigh Mason is the stage manager. \nThe tasty shenanigans involve Bernard\, who’s got romance on his mind. With his wife out of town\, an alibi from his best friend and a gourmet chef to add culinary spice\, the determined Bernard has the perfect evening planned for his French mistress – or so he thinks. But hidden identities and outrageous identities cause his best laid plans to go off track in the clever comedic ride. \nDon’t Dress for Dinner is presented by arrangement with Concord Theatricals on behalf of Samuel French\, Inc. www.ConcordTheatricals.com
URL:https://womr.org/event/dont-dress-for-dinner-2/2026-01-25/
LOCATION:Barnstable Comedy Club\, 3171 Route 6A\, Barnstable\, MA\, 02630\, United States
CATEGORIES:Theater
ATTACH;FMTTYPE=image/jpeg:https://womr.org/wp-content/uploads/2025/11/POSTER-DONT-DRESS-FOR-DINNER-MEDIA-3-scaled-e1764440918640.jpg
ORGANIZER;CN="Barnstable Comedy Club":MAILTO:barnstablecomedyclub@comcast.net
GEO:41.702134;-70.3054982
X-APPLE-STRUCTURED-LOCATION;VALUE=URI;X-ADDRESS=Barnstable Comedy Club 3171 Route 6A Barnstable MA 02630 United States;X-APPLE-RADIUS=500;X-TITLE=3171 Route 6A:geo:-70.3054982,41.702134
END:VEVENT
END:VCALENDAR