BEGIN:VCALENDAR
VERSION:2.0
PRODID:-//WOMR - Outermost Community Radio - ECPv6.15.18//NONSGML v1.0//EN
CALSCALE:GREGORIAN
METHOD:PUBLISH
X-ORIGINAL-URL:https://womr.org
X-WR-CALDESC:Events for WOMR - Outermost Community Radio
REFRESH-INTERVAL;VALUE=DURATION:PT1H
X-Robots-Tag:noindex
X-PUBLISHED-TTL:PT1H
BEGIN:VTIMEZONE
TZID:America/New_York
BEGIN:DAYLIGHT
TZOFFSETFROM:-0500
TZOFFSETTO:-0400
TZNAME:EDT
DTSTART:20250309T070000
END:DAYLIGHT
BEGIN:STANDARD
TZOFFSETFROM:-0400
TZOFFSETTO:-0500
TZNAME:EST
DTSTART:20251102T060000
END:STANDARD
BEGIN:DAYLIGHT
TZOFFSETFROM:-0500
TZOFFSETTO:-0400
TZNAME:EDT
DTSTART:20260308T070000
END:DAYLIGHT
BEGIN:STANDARD
TZOFFSETFROM:-0400
TZOFFSETTO:-0500
TZNAME:EST
DTSTART:20261101T060000
END:STANDARD
BEGIN:DAYLIGHT
TZOFFSETFROM:-0500
TZOFFSETTO:-0400
TZNAME:EDT
DTSTART:20270314T070000
END:DAYLIGHT
BEGIN:STANDARD
TZOFFSETFROM:-0400
TZOFFSETTO:-0500
TZNAME:EST
DTSTART:20271107T060000
END:STANDARD
END:VTIMEZONE
BEGIN:VEVENT
DTSTART;TZID=America/New_York:20260723T190000
DTEND;TZID=America/New_York:20260723T190000
DTSTAMP:20260420T094251
CREATED:20260407T162736Z
LAST-MODIFIED:20260407T162747Z
UID:10018013-1784833200-1784833200@womr.org
SUMMARY:The Mousetrap
DESCRIPTION:Directed by Robert Kropf \nTrapped in a blizzard\, eight strangers race to solve a desperate puzzle– who among them is behind a twisted killing spree and who might be the next victim? The Harbor takes a stab at Agatha Christie’s beloved murder mystery masterpiece.
URL:https://womr.org/event/the-mousetrap/2026-07-23/
LOCATION:Harbor Stage Company\, Wellfleet Harbor\, Wellfleet
CATEGORIES:Theater
GEO:41.8969227979;-70.0369150376
X-APPLE-STRUCTURED-LOCATION;VALUE=URI;X-ADDRESS=Harbor Stage Company Wellfleet Harbor Wellfleet;X-APPLE-RADIUS=500;X-TITLE=Wellfleet Harbor:geo:-70.0369150376,41.8969227979
END:VEVENT
BEGIN:VEVENT
DTSTART;TZID=America/New_York:20260724T190000
DTEND;TZID=America/New_York:20260724T190000
DTSTAMP:20260420T094251
CREATED:20260407T162736Z
LAST-MODIFIED:20260407T162747Z
UID:10018014-1784919600-1784919600@womr.org
SUMMARY:The Mousetrap
DESCRIPTION:Directed by Robert Kropf \nTrapped in a blizzard\, eight strangers race to solve a desperate puzzle– who among them is behind a twisted killing spree and who might be the next victim? The Harbor takes a stab at Agatha Christie’s beloved murder mystery masterpiece.
URL:https://womr.org/event/the-mousetrap/2026-07-24/
LOCATION:Harbor Stage Company\, Wellfleet Harbor\, Wellfleet
CATEGORIES:Theater
GEO:41.8969227979;-70.0369150376
X-APPLE-STRUCTURED-LOCATION;VALUE=URI;X-ADDRESS=Harbor Stage Company Wellfleet Harbor Wellfleet;X-APPLE-RADIUS=500;X-TITLE=Wellfleet Harbor:geo:-70.0369150376,41.8969227979
END:VEVENT
BEGIN:VEVENT
DTSTART;TZID=America/New_York:20260725T190000
DTEND;TZID=America/New_York:20260725T190000
DTSTAMP:20260420T094251
CREATED:20260407T162736Z
LAST-MODIFIED:20260407T162747Z
UID:10018015-1785006000-1785006000@womr.org
SUMMARY:The Mousetrap
DESCRIPTION:Directed by Robert Kropf \nTrapped in a blizzard\, eight strangers race to solve a desperate puzzle– who among them is behind a twisted killing spree and who might be the next victim? The Harbor takes a stab at Agatha Christie’s beloved murder mystery masterpiece.
URL:https://womr.org/event/the-mousetrap/2026-07-25/
LOCATION:Harbor Stage Company\, Wellfleet Harbor\, Wellfleet
CATEGORIES:Theater
GEO:41.8969227979;-70.0369150376
X-APPLE-STRUCTURED-LOCATION;VALUE=URI;X-ADDRESS=Harbor Stage Company Wellfleet Harbor Wellfleet;X-APPLE-RADIUS=500;X-TITLE=Wellfleet Harbor:geo:-70.0369150376,41.8969227979
END:VEVENT
BEGIN:VEVENT
DTSTART;TZID=America/New_York:20260726T170000
DTEND;TZID=America/New_York:20260726T190000
DTSTAMP:20260420T094251
CREATED:20260407T162904Z
LAST-MODIFIED:20260407T162904Z
UID:10018040-1785085200-1785092400@womr.org
SUMMARY:The Mousetrap
DESCRIPTION:Directed by Robert Kropf \nTrapped in a blizzard\, eight strangers race to solve a desperate puzzle– who among them is behind a twisted killing spree and who might be the next victim? The Harbor takes a stab at Agatha Christie’s beloved murder mystery masterpiece.
URL:https://womr.org/event/the-mousetrap-2/2026-07-26/
LOCATION:Harbor Stage Company\, Wellfleet Harbor\, Wellfleet
CATEGORIES:Theater
GEO:41.8969227979;-70.0369150376
X-APPLE-STRUCTURED-LOCATION;VALUE=URI;X-ADDRESS=Harbor Stage Company Wellfleet Harbor Wellfleet;X-APPLE-RADIUS=500;X-TITLE=Wellfleet Harbor:geo:-70.0369150376,41.8969227979
END:VEVENT
BEGIN:VEVENT
DTSTART;TZID=America/New_York:20260729T190000
DTEND;TZID=America/New_York:20260729T190000
DTSTAMP:20260420T094251
CREATED:20260407T162736Z
LAST-MODIFIED:20260407T162747Z
UID:10018016-1785351600-1785351600@womr.org
SUMMARY:The Mousetrap
DESCRIPTION:Directed by Robert Kropf \nTrapped in a blizzard\, eight strangers race to solve a desperate puzzle– who among them is behind a twisted killing spree and who might be the next victim? The Harbor takes a stab at Agatha Christie’s beloved murder mystery masterpiece.
URL:https://womr.org/event/the-mousetrap/2026-07-29/
LOCATION:Harbor Stage Company\, Wellfleet Harbor\, Wellfleet
CATEGORIES:Theater
GEO:41.8969227979;-70.0369150376
X-APPLE-STRUCTURED-LOCATION;VALUE=URI;X-ADDRESS=Harbor Stage Company Wellfleet Harbor Wellfleet;X-APPLE-RADIUS=500;X-TITLE=Wellfleet Harbor:geo:-70.0369150376,41.8969227979
END:VEVENT
BEGIN:VEVENT
DTSTART;TZID=America/New_York:20260730T190000
DTEND;TZID=America/New_York:20260730T190000
DTSTAMP:20260420T094251
CREATED:20260407T162736Z
LAST-MODIFIED:20260407T162747Z
UID:10018017-1785438000-1785438000@womr.org
SUMMARY:The Mousetrap
DESCRIPTION:Directed by Robert Kropf \nTrapped in a blizzard\, eight strangers race to solve a desperate puzzle– who among them is behind a twisted killing spree and who might be the next victim? The Harbor takes a stab at Agatha Christie’s beloved murder mystery masterpiece.
URL:https://womr.org/event/the-mousetrap/2026-07-30/
LOCATION:Harbor Stage Company\, Wellfleet Harbor\, Wellfleet
CATEGORIES:Theater
GEO:41.8969227979;-70.0369150376
X-APPLE-STRUCTURED-LOCATION;VALUE=URI;X-ADDRESS=Harbor Stage Company Wellfleet Harbor Wellfleet;X-APPLE-RADIUS=500;X-TITLE=Wellfleet Harbor:geo:-70.0369150376,41.8969227979
END:VEVENT
BEGIN:VEVENT
DTSTART;TZID=America/New_York:20260731T190000
DTEND;TZID=America/New_York:20260731T190000
DTSTAMP:20260420T094251
CREATED:20260407T162736Z
LAST-MODIFIED:20260407T162747Z
UID:10018018-1785524400-1785524400@womr.org
SUMMARY:The Mousetrap
DESCRIPTION:Directed by Robert Kropf \nTrapped in a blizzard\, eight strangers race to solve a desperate puzzle– who among them is behind a twisted killing spree and who might be the next victim? The Harbor takes a stab at Agatha Christie’s beloved murder mystery masterpiece.
URL:https://womr.org/event/the-mousetrap/2026-07-31/
LOCATION:Harbor Stage Company\, Wellfleet Harbor\, Wellfleet
CATEGORIES:Theater
GEO:41.8969227979;-70.0369150376
X-APPLE-STRUCTURED-LOCATION;VALUE=URI;X-ADDRESS=Harbor Stage Company Wellfleet Harbor Wellfleet;X-APPLE-RADIUS=500;X-TITLE=Wellfleet Harbor:geo:-70.0369150376,41.8969227979
END:VEVENT
BEGIN:VEVENT
DTSTART;TZID=America/New_York:20260801T190000
DTEND;TZID=America/New_York:20260801T190000
DTSTAMP:20260420T094251
CREATED:20260407T162736Z
LAST-MODIFIED:20260407T162747Z
UID:10018019-1785610800-1785610800@womr.org
SUMMARY:The Mousetrap
DESCRIPTION:Directed by Robert Kropf \nTrapped in a blizzard\, eight strangers race to solve a desperate puzzle– who among them is behind a twisted killing spree and who might be the next victim? The Harbor takes a stab at Agatha Christie’s beloved murder mystery masterpiece.
URL:https://womr.org/event/the-mousetrap/2026-08-01/
LOCATION:Harbor Stage Company\, Wellfleet Harbor\, Wellfleet
CATEGORIES:Theater
GEO:41.8969227979;-70.0369150376
X-APPLE-STRUCTURED-LOCATION;VALUE=URI;X-ADDRESS=Harbor Stage Company Wellfleet Harbor Wellfleet;X-APPLE-RADIUS=500;X-TITLE=Wellfleet Harbor:geo:-70.0369150376,41.8969227979
END:VEVENT
BEGIN:VEVENT
DTSTART;TZID=America/New_York:20260802T170000
DTEND;TZID=America/New_York:20260802T190000
DTSTAMP:20260420T094251
CREATED:20260407T162904Z
LAST-MODIFIED:20260407T162904Z
UID:10018041-1785690000-1785697200@womr.org
SUMMARY:The Mousetrap
DESCRIPTION:Directed by Robert Kropf \nTrapped in a blizzard\, eight strangers race to solve a desperate puzzle– who among them is behind a twisted killing spree and who might be the next victim? The Harbor takes a stab at Agatha Christie’s beloved murder mystery masterpiece.
URL:https://womr.org/event/the-mousetrap-2/2026-08-02/
LOCATION:Harbor Stage Company\, Wellfleet Harbor\, Wellfleet
CATEGORIES:Theater
GEO:41.8969227979;-70.0369150376
X-APPLE-STRUCTURED-LOCATION;VALUE=URI;X-ADDRESS=Harbor Stage Company Wellfleet Harbor Wellfleet;X-APPLE-RADIUS=500;X-TITLE=Wellfleet Harbor:geo:-70.0369150376,41.8969227979
END:VEVENT
BEGIN:VEVENT
DTSTART;TZID=America/New_York:20260805T190000
DTEND;TZID=America/New_York:20260805T190000
DTSTAMP:20260420T094251
CREATED:20260407T162736Z
LAST-MODIFIED:20260407T162747Z
UID:10018020-1785956400-1785956400@womr.org
SUMMARY:The Mousetrap
DESCRIPTION:Directed by Robert Kropf \nTrapped in a blizzard\, eight strangers race to solve a desperate puzzle– who among them is behind a twisted killing spree and who might be the next victim? The Harbor takes a stab at Agatha Christie’s beloved murder mystery masterpiece.
URL:https://womr.org/event/the-mousetrap/2026-08-05/
LOCATION:Harbor Stage Company\, Wellfleet Harbor\, Wellfleet
CATEGORIES:Theater
GEO:41.8969227979;-70.0369150376
X-APPLE-STRUCTURED-LOCATION;VALUE=URI;X-ADDRESS=Harbor Stage Company Wellfleet Harbor Wellfleet;X-APPLE-RADIUS=500;X-TITLE=Wellfleet Harbor:geo:-70.0369150376,41.8969227979
END:VEVENT
BEGIN:VEVENT
DTSTART;TZID=America/New_York:20260806T190000
DTEND;TZID=America/New_York:20260806T190000
DTSTAMP:20260420T094251
CREATED:20260407T162736Z
LAST-MODIFIED:20260407T162747Z
UID:10018021-1786042800-1786042800@womr.org
SUMMARY:The Mousetrap
DESCRIPTION:Directed by Robert Kropf \nTrapped in a blizzard\, eight strangers race to solve a desperate puzzle– who among them is behind a twisted killing spree and who might be the next victim? The Harbor takes a stab at Agatha Christie’s beloved murder mystery masterpiece.
URL:https://womr.org/event/the-mousetrap/2026-08-06/
LOCATION:Harbor Stage Company\, Wellfleet Harbor\, Wellfleet
CATEGORIES:Theater
GEO:41.8969227979;-70.0369150376
X-APPLE-STRUCTURED-LOCATION;VALUE=URI;X-ADDRESS=Harbor Stage Company Wellfleet Harbor Wellfleet;X-APPLE-RADIUS=500;X-TITLE=Wellfleet Harbor:geo:-70.0369150376,41.8969227979
END:VEVENT
BEGIN:VEVENT
DTSTART;TZID=America/New_York:20260807T190000
DTEND;TZID=America/New_York:20260807T190000
DTSTAMP:20260420T094251
CREATED:20260407T162736Z
LAST-MODIFIED:20260407T162747Z
UID:10018022-1786129200-1786129200@womr.org
SUMMARY:The Mousetrap
DESCRIPTION:Directed by Robert Kropf \nTrapped in a blizzard\, eight strangers race to solve a desperate puzzle– who among them is behind a twisted killing spree and who might be the next victim? The Harbor takes a stab at Agatha Christie’s beloved murder mystery masterpiece.
URL:https://womr.org/event/the-mousetrap/2026-08-07/
LOCATION:Harbor Stage Company\, Wellfleet Harbor\, Wellfleet
CATEGORIES:Theater
GEO:41.8969227979;-70.0369150376
X-APPLE-STRUCTURED-LOCATION;VALUE=URI;X-ADDRESS=Harbor Stage Company Wellfleet Harbor Wellfleet;X-APPLE-RADIUS=500;X-TITLE=Wellfleet Harbor:geo:-70.0369150376,41.8969227979
END:VEVENT
BEGIN:VEVENT
DTSTART;TZID=America/New_York:20260808T190000
DTEND;TZID=America/New_York:20260808T190000
DTSTAMP:20260420T094252
CREATED:20260407T162736Z
LAST-MODIFIED:20260407T162747Z
UID:10018023-1786215600-1786215600@womr.org
SUMMARY:The Mousetrap
DESCRIPTION:Directed by Robert Kropf \nTrapped in a blizzard\, eight strangers race to solve a desperate puzzle– who among them is behind a twisted killing spree and who might be the next victim? The Harbor takes a stab at Agatha Christie’s beloved murder mystery masterpiece.
URL:https://womr.org/event/the-mousetrap/2026-08-08/
LOCATION:Harbor Stage Company\, Wellfleet Harbor\, Wellfleet
CATEGORIES:Theater
GEO:41.8969227979;-70.0369150376
X-APPLE-STRUCTURED-LOCATION;VALUE=URI;X-ADDRESS=Harbor Stage Company Wellfleet Harbor Wellfleet;X-APPLE-RADIUS=500;X-TITLE=Wellfleet Harbor:geo:-70.0369150376,41.8969227979
END:VEVENT
BEGIN:VEVENT
DTSTART;TZID=America/New_York:20260813T190000
DTEND;TZID=America/New_York:20260813T190000
DTSTAMP:20260420T094252
CREATED:20260407T163534Z
LAST-MODIFIED:20260407T163541Z
UID:10018048-1786647600-1786647600@womr.org
SUMMARY:The Realistic Joneses
DESCRIPTION:Two sets of suburban neighbors navigate marriage\, mortality\, and midlife melancholy in Will Eno’s delicately dark comedy. An offbeat meditation on common names and uncommon connections. \nPerformances run WED-SAT @ 7:00PM\nSun @ 5:00PM
URL:https://womr.org/event/the-realistic-joneses/2026-08-13/
LOCATION:Harbor Stage Company\, Wellfleet Harbor\, Wellfleet
CATEGORIES:Theater
GEO:41.8969227979;-70.0369150376
X-APPLE-STRUCTURED-LOCATION;VALUE=URI;X-ADDRESS=Harbor Stage Company Wellfleet Harbor Wellfleet;X-APPLE-RADIUS=500;X-TITLE=Wellfleet Harbor:geo:-70.0369150376,41.8969227979
END:VEVENT
BEGIN:VEVENT
DTSTART;TZID=America/New_York:20260814T190000
DTEND;TZID=America/New_York:20260814T190000
DTSTAMP:20260420T094252
CREATED:20260407T163534Z
LAST-MODIFIED:20260407T163541Z
UID:10018049-1786734000-1786734000@womr.org
SUMMARY:The Realistic Joneses
DESCRIPTION:Two sets of suburban neighbors navigate marriage\, mortality\, and midlife melancholy in Will Eno’s delicately dark comedy. An offbeat meditation on common names and uncommon connections. \nPerformances run WED-SAT @ 7:00PM\nSun @ 5:00PM
URL:https://womr.org/event/the-realistic-joneses/2026-08-14/
LOCATION:Harbor Stage Company\, Wellfleet Harbor\, Wellfleet
CATEGORIES:Theater
GEO:41.8969227979;-70.0369150376
X-APPLE-STRUCTURED-LOCATION;VALUE=URI;X-ADDRESS=Harbor Stage Company Wellfleet Harbor Wellfleet;X-APPLE-RADIUS=500;X-TITLE=Wellfleet Harbor:geo:-70.0369150376,41.8969227979
END:VEVENT
BEGIN:VEVENT
DTSTART;TZID=America/New_York:20260815T190000
DTEND;TZID=America/New_York:20260815T190000
DTSTAMP:20260420T094252
CREATED:20260407T163534Z
LAST-MODIFIED:20260407T163541Z
UID:10018050-1786820400-1786820400@womr.org
SUMMARY:The Realistic Joneses
DESCRIPTION:Two sets of suburban neighbors navigate marriage\, mortality\, and midlife melancholy in Will Eno’s delicately dark comedy. An offbeat meditation on common names and uncommon connections. \nPerformances run WED-SAT @ 7:00PM\nSun @ 5:00PM
URL:https://womr.org/event/the-realistic-joneses/2026-08-15/
LOCATION:Harbor Stage Company\, Wellfleet Harbor\, Wellfleet
CATEGORIES:Theater
GEO:41.8969227979;-70.0369150376
X-APPLE-STRUCTURED-LOCATION;VALUE=URI;X-ADDRESS=Harbor Stage Company Wellfleet Harbor Wellfleet;X-APPLE-RADIUS=500;X-TITLE=Wellfleet Harbor:geo:-70.0369150376,41.8969227979
END:VEVENT
BEGIN:VEVENT
DTSTART;TZID=America/New_York:20260816T170000
DTEND;TZID=America/New_York:20260816T190000
DTSTAMP:20260420T094252
CREATED:20260407T163609Z
LAST-MODIFIED:20260407T163609Z
UID:10018076-1786899600-1786906800@womr.org
SUMMARY:The Realistic Joneses
DESCRIPTION:Two sets of suburban neighbors navigate marriage\, mortality\, and midlife melancholy in Will Eno’s delicately dark comedy. An offbeat meditation on common names and uncommon connections. \nPerformances run WED-SAT @ 7:00PM\nSun @ 5:00PM
URL:https://womr.org/event/the-realistic-joneses-2/2026-08-16/
LOCATION:Harbor Stage Company\, Wellfleet Harbor\, Wellfleet
CATEGORIES:Theater
GEO:41.8969227979;-70.0369150376
X-APPLE-STRUCTURED-LOCATION;VALUE=URI;X-ADDRESS=Harbor Stage Company Wellfleet Harbor Wellfleet;X-APPLE-RADIUS=500;X-TITLE=Wellfleet Harbor:geo:-70.0369150376,41.8969227979
END:VEVENT
BEGIN:VEVENT
DTSTART;TZID=America/New_York:20260819T190000
DTEND;TZID=America/New_York:20260819T190000
DTSTAMP:20260420T094252
CREATED:20260407T163534Z
LAST-MODIFIED:20260407T163541Z
UID:10018051-1787166000-1787166000@womr.org
SUMMARY:The Realistic Joneses
DESCRIPTION:Two sets of suburban neighbors navigate marriage\, mortality\, and midlife melancholy in Will Eno’s delicately dark comedy. An offbeat meditation on common names and uncommon connections. \nPerformances run WED-SAT @ 7:00PM\nSun @ 5:00PM
URL:https://womr.org/event/the-realistic-joneses/2026-08-19/
LOCATION:Harbor Stage Company\, Wellfleet Harbor\, Wellfleet
CATEGORIES:Theater
GEO:41.8969227979;-70.0369150376
X-APPLE-STRUCTURED-LOCATION;VALUE=URI;X-ADDRESS=Harbor Stage Company Wellfleet Harbor Wellfleet;X-APPLE-RADIUS=500;X-TITLE=Wellfleet Harbor:geo:-70.0369150376,41.8969227979
END:VEVENT
BEGIN:VEVENT
DTSTART;TZID=America/New_York:20260820T190000
DTEND;TZID=America/New_York:20260820T190000
DTSTAMP:20260420T094252
CREATED:20260407T163534Z
LAST-MODIFIED:20260407T163541Z
UID:10018052-1787252400-1787252400@womr.org
SUMMARY:The Realistic Joneses
DESCRIPTION:Two sets of suburban neighbors navigate marriage\, mortality\, and midlife melancholy in Will Eno’s delicately dark comedy. An offbeat meditation on common names and uncommon connections. \nPerformances run WED-SAT @ 7:00PM\nSun @ 5:00PM
URL:https://womr.org/event/the-realistic-joneses/2026-08-20/
LOCATION:Harbor Stage Company\, Wellfleet Harbor\, Wellfleet
CATEGORIES:Theater
GEO:41.8969227979;-70.0369150376
X-APPLE-STRUCTURED-LOCATION;VALUE=URI;X-ADDRESS=Harbor Stage Company Wellfleet Harbor Wellfleet;X-APPLE-RADIUS=500;X-TITLE=Wellfleet Harbor:geo:-70.0369150376,41.8969227979
END:VEVENT
BEGIN:VEVENT
DTSTART;TZID=America/New_York:20260821T190000
DTEND;TZID=America/New_York:20260821T190000
DTSTAMP:20260420T094252
CREATED:20260407T163534Z
LAST-MODIFIED:20260407T163541Z
UID:10018053-1787338800-1787338800@womr.org
SUMMARY:The Realistic Joneses
DESCRIPTION:Two sets of suburban neighbors navigate marriage\, mortality\, and midlife melancholy in Will Eno’s delicately dark comedy. An offbeat meditation on common names and uncommon connections. \nPerformances run WED-SAT @ 7:00PM\nSun @ 5:00PM
URL:https://womr.org/event/the-realistic-joneses/2026-08-21/
LOCATION:Harbor Stage Company\, Wellfleet Harbor\, Wellfleet
CATEGORIES:Theater
GEO:41.8969227979;-70.0369150376
X-APPLE-STRUCTURED-LOCATION;VALUE=URI;X-ADDRESS=Harbor Stage Company Wellfleet Harbor Wellfleet;X-APPLE-RADIUS=500;X-TITLE=Wellfleet Harbor:geo:-70.0369150376,41.8969227979
END:VEVENT
BEGIN:VEVENT
DTSTART;TZID=America/New_York:20260822T190000
DTEND;TZID=America/New_York:20260822T190000
DTSTAMP:20260420T094252
CREATED:20260407T163534Z
LAST-MODIFIED:20260407T163541Z
UID:10018054-1787425200-1787425200@womr.org
SUMMARY:The Realistic Joneses
DESCRIPTION:Two sets of suburban neighbors navigate marriage\, mortality\, and midlife melancholy in Will Eno’s delicately dark comedy. An offbeat meditation on common names and uncommon connections. \nPerformances run WED-SAT @ 7:00PM\nSun @ 5:00PM
URL:https://womr.org/event/the-realistic-joneses/2026-08-22/
LOCATION:Harbor Stage Company\, Wellfleet Harbor\, Wellfleet
CATEGORIES:Theater
GEO:41.8969227979;-70.0369150376
X-APPLE-STRUCTURED-LOCATION;VALUE=URI;X-ADDRESS=Harbor Stage Company Wellfleet Harbor Wellfleet;X-APPLE-RADIUS=500;X-TITLE=Wellfleet Harbor:geo:-70.0369150376,41.8969227979
END:VEVENT
BEGIN:VEVENT
DTSTART;TZID=America/New_York:20260823T170000
DTEND;TZID=America/New_York:20260823T190000
DTSTAMP:20260420T094252
CREATED:20260407T163609Z
LAST-MODIFIED:20260407T163609Z
UID:10018077-1787504400-1787511600@womr.org
SUMMARY:The Realistic Joneses
DESCRIPTION:Two sets of suburban neighbors navigate marriage\, mortality\, and midlife melancholy in Will Eno’s delicately dark comedy. An offbeat meditation on common names and uncommon connections. \nPerformances run WED-SAT @ 7:00PM\nSun @ 5:00PM
URL:https://womr.org/event/the-realistic-joneses-2/2026-08-23/
LOCATION:Harbor Stage Company\, Wellfleet Harbor\, Wellfleet
CATEGORIES:Theater
GEO:41.8969227979;-70.0369150376
X-APPLE-STRUCTURED-LOCATION;VALUE=URI;X-ADDRESS=Harbor Stage Company Wellfleet Harbor Wellfleet;X-APPLE-RADIUS=500;X-TITLE=Wellfleet Harbor:geo:-70.0369150376,41.8969227979
END:VEVENT
BEGIN:VEVENT
DTSTART;TZID=America/New_York:20260826T190000
DTEND;TZID=America/New_York:20260826T190000
DTSTAMP:20260420T094252
CREATED:20260407T163534Z
LAST-MODIFIED:20260407T163541Z
UID:10018055-1787770800-1787770800@womr.org
SUMMARY:The Realistic Joneses
DESCRIPTION:Two sets of suburban neighbors navigate marriage\, mortality\, and midlife melancholy in Will Eno’s delicately dark comedy. An offbeat meditation on common names and uncommon connections. \nPerformances run WED-SAT @ 7:00PM\nSun @ 5:00PM
URL:https://womr.org/event/the-realistic-joneses/2026-08-26/
LOCATION:Harbor Stage Company\, Wellfleet Harbor\, Wellfleet
CATEGORIES:Theater
GEO:41.8969227979;-70.0369150376
X-APPLE-STRUCTURED-LOCATION;VALUE=URI;X-ADDRESS=Harbor Stage Company Wellfleet Harbor Wellfleet;X-APPLE-RADIUS=500;X-TITLE=Wellfleet Harbor:geo:-70.0369150376,41.8969227979
END:VEVENT
BEGIN:VEVENT
DTSTART;TZID=America/New_York:20260827T190000
DTEND;TZID=America/New_York:20260827T190000
DTSTAMP:20260420T094252
CREATED:20260407T163534Z
LAST-MODIFIED:20260407T163541Z
UID:10018056-1787857200-1787857200@womr.org
SUMMARY:The Realistic Joneses
DESCRIPTION:Two sets of suburban neighbors navigate marriage\, mortality\, and midlife melancholy in Will Eno’s delicately dark comedy. An offbeat meditation on common names and uncommon connections. \nPerformances run WED-SAT @ 7:00PM\nSun @ 5:00PM
URL:https://womr.org/event/the-realistic-joneses/2026-08-27/
LOCATION:Harbor Stage Company\, Wellfleet Harbor\, Wellfleet
CATEGORIES:Theater
GEO:41.8969227979;-70.0369150376
X-APPLE-STRUCTURED-LOCATION;VALUE=URI;X-ADDRESS=Harbor Stage Company Wellfleet Harbor Wellfleet;X-APPLE-RADIUS=500;X-TITLE=Wellfleet Harbor:geo:-70.0369150376,41.8969227979
END:VEVENT
BEGIN:VEVENT
DTSTART;TZID=America/New_York:20260828T190000
DTEND;TZID=America/New_York:20260828T190000
DTSTAMP:20260420T094252
CREATED:20260407T163534Z
LAST-MODIFIED:20260407T163541Z
UID:10018057-1787943600-1787943600@womr.org
SUMMARY:The Realistic Joneses
DESCRIPTION:Two sets of suburban neighbors navigate marriage\, mortality\, and midlife melancholy in Will Eno’s delicately dark comedy. An offbeat meditation on common names and uncommon connections. \nPerformances run WED-SAT @ 7:00PM\nSun @ 5:00PM
URL:https://womr.org/event/the-realistic-joneses/2026-08-28/
LOCATION:Harbor Stage Company\, Wellfleet Harbor\, Wellfleet
CATEGORIES:Theater
GEO:41.8969227979;-70.0369150376
X-APPLE-STRUCTURED-LOCATION;VALUE=URI;X-ADDRESS=Harbor Stage Company Wellfleet Harbor Wellfleet;X-APPLE-RADIUS=500;X-TITLE=Wellfleet Harbor:geo:-70.0369150376,41.8969227979
END:VEVENT
BEGIN:VEVENT
DTSTART;TZID=America/New_York:20260829T190000
DTEND;TZID=America/New_York:20260829T190000
DTSTAMP:20260420T094252
CREATED:20260407T163534Z
LAST-MODIFIED:20260407T163541Z
UID:10018058-1788030000-1788030000@womr.org
SUMMARY:The Realistic Joneses
DESCRIPTION:Two sets of suburban neighbors navigate marriage\, mortality\, and midlife melancholy in Will Eno’s delicately dark comedy. An offbeat meditation on common names and uncommon connections. \nPerformances run WED-SAT @ 7:00PM\nSun @ 5:00PM
URL:https://womr.org/event/the-realistic-joneses/2026-08-29/
LOCATION:Harbor Stage Company\, Wellfleet Harbor\, Wellfleet
CATEGORIES:Theater
GEO:41.8969227979;-70.0369150376
X-APPLE-STRUCTURED-LOCATION;VALUE=URI;X-ADDRESS=Harbor Stage Company Wellfleet Harbor Wellfleet;X-APPLE-RADIUS=500;X-TITLE=Wellfleet Harbor:geo:-70.0369150376,41.8969227979
END:VEVENT
BEGIN:VEVENT
DTSTART;TZID=America/New_York:20260830T170000
DTEND;TZID=America/New_York:20260830T190000
DTSTAMP:20260420T094252
CREATED:20260407T163609Z
LAST-MODIFIED:20260407T163609Z
UID:10018078-1788109200-1788116400@womr.org
SUMMARY:The Realistic Joneses
DESCRIPTION:Two sets of suburban neighbors navigate marriage\, mortality\, and midlife melancholy in Will Eno’s delicately dark comedy. An offbeat meditation on common names and uncommon connections. \nPerformances run WED-SAT @ 7:00PM\nSun @ 5:00PM
URL:https://womr.org/event/the-realistic-joneses-2/2026-08-30/
LOCATION:Harbor Stage Company\, Wellfleet Harbor\, Wellfleet
CATEGORIES:Theater
GEO:41.8969227979;-70.0369150376
X-APPLE-STRUCTURED-LOCATION;VALUE=URI;X-ADDRESS=Harbor Stage Company Wellfleet Harbor Wellfleet;X-APPLE-RADIUS=500;X-TITLE=Wellfleet Harbor:geo:-70.0369150376,41.8969227979
END:VEVENT
BEGIN:VEVENT
DTSTART;TZID=America/New_York:20260902T190000
DTEND;TZID=America/New_York:20260902T190000
DTSTAMP:20260420T094252
CREATED:20260407T163534Z
LAST-MODIFIED:20260407T163541Z
UID:10018059-1788375600-1788375600@womr.org
SUMMARY:The Realistic Joneses
DESCRIPTION:Two sets of suburban neighbors navigate marriage\, mortality\, and midlife melancholy in Will Eno’s delicately dark comedy. An offbeat meditation on common names and uncommon connections. \nPerformances run WED-SAT @ 7:00PM\nSun @ 5:00PM
URL:https://womr.org/event/the-realistic-joneses/2026-09-02/
LOCATION:Harbor Stage Company\, Wellfleet Harbor\, Wellfleet
CATEGORIES:Theater
GEO:41.8969227979;-70.0369150376
X-APPLE-STRUCTURED-LOCATION;VALUE=URI;X-ADDRESS=Harbor Stage Company Wellfleet Harbor Wellfleet;X-APPLE-RADIUS=500;X-TITLE=Wellfleet Harbor:geo:-70.0369150376,41.8969227979
END:VEVENT
BEGIN:VEVENT
DTSTART;TZID=America/New_York:20260903T190000
DTEND;TZID=America/New_York:20260903T190000
DTSTAMP:20260420T094252
CREATED:20260407T163534Z
LAST-MODIFIED:20260407T163541Z
UID:10018060-1788462000-1788462000@womr.org
SUMMARY:The Realistic Joneses
DESCRIPTION:Two sets of suburban neighbors navigate marriage\, mortality\, and midlife melancholy in Will Eno’s delicately dark comedy. An offbeat meditation on common names and uncommon connections. \nPerformances run WED-SAT @ 7:00PM\nSun @ 5:00PM
URL:https://womr.org/event/the-realistic-joneses/2026-09-03/
LOCATION:Harbor Stage Company\, Wellfleet Harbor\, Wellfleet
CATEGORIES:Theater
GEO:41.8969227979;-70.0369150376
X-APPLE-STRUCTURED-LOCATION;VALUE=URI;X-ADDRESS=Harbor Stage Company Wellfleet Harbor Wellfleet;X-APPLE-RADIUS=500;X-TITLE=Wellfleet Harbor:geo:-70.0369150376,41.8969227979
END:VEVENT
BEGIN:VEVENT
DTSTART;TZID=America/New_York:20260904T190000
DTEND;TZID=America/New_York:20260904T190000
DTSTAMP:20260420T094252
CREATED:20260407T163534Z
LAST-MODIFIED:20260407T163541Z
UID:10018061-1788548400-1788548400@womr.org
SUMMARY:The Realistic Joneses
DESCRIPTION:Two sets of suburban neighbors navigate marriage\, mortality\, and midlife melancholy in Will Eno’s delicately dark comedy. An offbeat meditation on common names and uncommon connections. \nPerformances run WED-SAT @ 7:00PM\nSun @ 5:00PM
URL:https://womr.org/event/the-realistic-joneses/2026-09-04/
LOCATION:Harbor Stage Company\, Wellfleet Harbor\, Wellfleet
CATEGORIES:Theater
GEO:41.8969227979;-70.0369150376
X-APPLE-STRUCTURED-LOCATION;VALUE=URI;X-ADDRESS=Harbor Stage Company Wellfleet Harbor Wellfleet;X-APPLE-RADIUS=500;X-TITLE=Wellfleet Harbor:geo:-70.0369150376,41.8969227979
END:VEVENT
END:VCALENDAR