BEGIN:VCALENDAR
VERSION:2.0
PRODID:-//WOMR - Outermost Community Radio - ECPv6.15.18//NONSGML v1.0//EN
CALSCALE:GREGORIAN
METHOD:PUBLISH
X-ORIGINAL-URL:https://womr.org
X-WR-CALDESC:Events for WOMR - Outermost Community Radio
REFRESH-INTERVAL;VALUE=DURATION:PT1H
X-Robots-Tag:noindex
X-PUBLISHED-TTL:PT1H
BEGIN:VTIMEZONE
TZID:America/New_York
BEGIN:DAYLIGHT
TZOFFSETFROM:-0500
TZOFFSETTO:-0400
TZNAME:EDT
DTSTART:20230312T070000
END:DAYLIGHT
BEGIN:STANDARD
TZOFFSETFROM:-0400
TZOFFSETTO:-0500
TZNAME:EST
DTSTART:20231105T060000
END:STANDARD
BEGIN:DAYLIGHT
TZOFFSETFROM:-0500
TZOFFSETTO:-0400
TZNAME:EDT
DTSTART:20240310T070000
END:DAYLIGHT
BEGIN:STANDARD
TZOFFSETFROM:-0400
TZOFFSETTO:-0500
TZNAME:EST
DTSTART:20241103T060000
END:STANDARD
BEGIN:DAYLIGHT
TZOFFSETFROM:-0500
TZOFFSETTO:-0400
TZNAME:EDT
DTSTART:20250309T070000
END:DAYLIGHT
BEGIN:STANDARD
TZOFFSETFROM:-0400
TZOFFSETTO:-0500
TZNAME:EST
DTSTART:20251102T060000
END:STANDARD
END:VTIMEZONE
BEGIN:VEVENT
DTSTART;TZID=America/New_York:20240114T140000
DTEND;TZID=America/New_York:20240114T153000
DTSTAMP:20260423T143812
CREATED:20231213T195017Z
LAST-MODIFIED:20231213T195017Z
UID:10005344-1705240800-1705246200@womr.org
SUMMARY:Singing for Pipes
DESCRIPTION:Fund raiser concert by Chatham Chorale to benefit the pipe organ at St. Peter’s Lutheran Church\, 310 Route 137\, Harwich\, MA\n2PM on Jan. 14\, 2024\nWorks by Schubert and Handel
URL:https://womr.org/event/singing-for-pipes/
LOCATION:St. Peter’s Lutheran Church\, 310 Route 137\, Harwich\, MA\, 02645\, United States
CATEGORIES:Benefits
ORGANIZER;CN=" Organizer Group":MAILTO:info@organizergroup.com
GEO:41.7174427;-70.0320313
X-APPLE-STRUCTURED-LOCATION;VALUE=URI;X-ADDRESS=St. Peter’s Lutheran Church 310 Route 137 Harwich MA 02645 United States;X-APPLE-RADIUS=500;X-TITLE=310 Route 137:geo:-70.0320313,41.7174427
END:VEVENT
END:VCALENDAR