BEGIN:VCALENDAR
VERSION:2.0
PRODID:-//WOMR - Outermost Community Radio - ECPv6.15.18//NONSGML v1.0//EN
CALSCALE:GREGORIAN
METHOD:PUBLISH
X-ORIGINAL-URL:https://womr.org
X-WR-CALDESC:Events for WOMR - Outermost Community Radio
REFRESH-INTERVAL;VALUE=DURATION:PT1H
X-Robots-Tag:noindex
X-PUBLISHED-TTL:PT1H
BEGIN:VTIMEZONE
TZID:America/New_York
BEGIN:DAYLIGHT
TZOFFSETFROM:-0500
TZOFFSETTO:-0400
TZNAME:EDT
DTSTART:20240310T070000
END:DAYLIGHT
BEGIN:STANDARD
TZOFFSETFROM:-0400
TZOFFSETTO:-0500
TZNAME:EST
DTSTART:20241103T060000
END:STANDARD
BEGIN:DAYLIGHT
TZOFFSETFROM:-0500
TZOFFSETTO:-0400
TZNAME:EDT
DTSTART:20250309T070000
END:DAYLIGHT
BEGIN:STANDARD
TZOFFSETFROM:-0400
TZOFFSETTO:-0500
TZNAME:EST
DTSTART:20251102T060000
END:STANDARD
BEGIN:DAYLIGHT
TZOFFSETFROM:-0500
TZOFFSETTO:-0400
TZNAME:EDT
DTSTART:20260308T070000
END:DAYLIGHT
BEGIN:STANDARD
TZOFFSETFROM:-0400
TZOFFSETTO:-0500
TZNAME:EST
DTSTART:20261101T060000
END:STANDARD
BEGIN:DAYLIGHT
TZOFFSETFROM:-0500
TZOFFSETTO:-0400
TZNAME:EDT
DTSTART:20270314T070000
END:DAYLIGHT
BEGIN:STANDARD
TZOFFSETFROM:-0400
TZOFFSETTO:-0500
TZNAME:EST
DTSTART:20271107T060000
END:STANDARD
END:VTIMEZONE
BEGIN:VEVENT
DTSTART;TZID=America/New_York:20260227T170000
DTEND;TZID=America/New_York:20260227T210000
DTSTAMP:20260420T093359
CREATED:20260212T131712Z
LAST-MODIFIED:20260212T131712Z
UID:10017288-1772211600-1772226000@womr.org
SUMMARY:DJ Ian Lee
DESCRIPTION:
URL:https://womr.org/event/dj-ian-lee/
LOCATION:Baleine\, 776 Main St\, Dennis\, MA\, 02638
CATEGORIES:Music
GEO:41.7388256;-70.1924252
X-APPLE-STRUCTURED-LOCATION;VALUE=URI;X-ADDRESS=Baleine 776 Main St Dennis MA 02638;X-APPLE-RADIUS=500;X-TITLE=776 Main St:geo:-70.1924252,41.7388256
END:VEVENT
BEGIN:VEVENT
DTSTART;TZID=America/New_York:20260221T170000
DTEND;TZID=America/New_York:20260221T210000
DTSTAMP:20260420T093359
CREATED:20260212T131432Z
LAST-MODIFIED:20260212T131624Z
UID:10017286-1771693200-1771707600@womr.org
SUMMARY:Rhythmryder
DESCRIPTION:DJ set
URL:https://womr.org/event/rhythmryder-2/
LOCATION:Baleine\, 776 Main St\, Dennis\, MA\, 02638
CATEGORIES:Music
GEO:41.7388256;-70.1924252
X-APPLE-STRUCTURED-LOCATION;VALUE=URI;X-ADDRESS=Baleine 776 Main St Dennis MA 02638;X-APPLE-RADIUS=500;X-TITLE=776 Main St:geo:-70.1924252,41.7388256
END:VEVENT
BEGIN:VEVENT
DTSTART;TZID=America/New_York:20260220T170000
DTEND;TZID=America/New_York:20260220T210000
DTSTAMP:20260420T093359
CREATED:20260212T131345Z
LAST-MODIFIED:20260212T131554Z
UID:10017285-1771606800-1771621200@womr.org
SUMMARY:Matty Dread
DESCRIPTION:DJ set
URL:https://womr.org/event/matty-dread-2/
LOCATION:Baleine\, 776 Main St\, Dennis\, MA\, 02638
CATEGORIES:Music
GEO:41.7388256;-70.1924252
X-APPLE-STRUCTURED-LOCATION;VALUE=URI;X-ADDRESS=Baleine 776 Main St Dennis MA 02638;X-APPLE-RADIUS=500;X-TITLE=776 Main St:geo:-70.1924252,41.7388256
END:VEVENT
BEGIN:VEVENT
DTSTART;TZID=America/New_York:20260214T170000
DTEND;TZID=America/New_York:20260214T210000
DTSTAMP:20260420T093359
CREATED:20260212T131515Z
LAST-MODIFIED:20260212T131521Z
UID:10017287-1771088400-1771102800@womr.org
SUMMARY:Kaiser Disco
DESCRIPTION:DJ set \nTicketed event
URL:https://womr.org/event/kaiser-disco/
LOCATION:Baleine\, 776 Main St\, Dennis\, MA\, 02638
CATEGORIES:Music
GEO:41.7388256;-70.1924252
X-APPLE-STRUCTURED-LOCATION;VALUE=URI;X-ADDRESS=Baleine 776 Main St Dennis MA 02638;X-APPLE-RADIUS=500;X-TITLE=776 Main St:geo:-70.1924252,41.7388256
END:VEVENT
BEGIN:VEVENT
DTSTART;TZID=America/New_York:20260213T170000
DTEND;TZID=America/New_York:20260213T210000
DTSTAMP:20260420T093359
CREATED:20260212T131311Z
LAST-MODIFIED:20260212T131318Z
UID:10017284-1771002000-1771016400@womr.org
SUMMARY:Braintree Jim
DESCRIPTION:DJ set
URL:https://womr.org/event/braintree-jim-2/
LOCATION:Baleine\, 776 Main St\, Dennis\, MA\, 02638
CATEGORIES:Music
GEO:41.7388256;-70.1924252
X-APPLE-STRUCTURED-LOCATION;VALUE=URI;X-ADDRESS=Baleine 776 Main St Dennis MA 02638;X-APPLE-RADIUS=500;X-TITLE=776 Main St:geo:-70.1924252,41.7388256
END:VEVENT
BEGIN:VEVENT
DTSTART;TZID=America/New_York:20251129T180000
DTEND;TZID=America/New_York:20251129T220000
DTSTAMP:20260420T093359
CREATED:20251126T235851Z
LAST-MODIFIED:20251126T235923Z
UID:10016259-1764439200-1764453600@womr.org
SUMMARY:Vinyl Saturdays: Matty Dread
DESCRIPTION:
URL:https://womr.org/event/vinyl-saturdays-matty-dread/
LOCATION:Baleine\, 776 Main St\, Dennis\, MA\, 02638
CATEGORIES:Music
ATTACH;FMTTYPE=image/jpeg:https://womr.org/wp-content/uploads/2025/11/Vinyl-sat-nov-e1763564881172.jpg
GEO:41.7388256;-70.1924252
X-APPLE-STRUCTURED-LOCATION;VALUE=URI;X-ADDRESS=Baleine 776 Main St Dennis MA 02638;X-APPLE-RADIUS=500;X-TITLE=776 Main St:geo:-70.1924252,41.7388256
END:VEVENT
BEGIN:VEVENT
DTSTART;TZID=America/New_York:20251128T180000
DTEND;TZID=America/New_York:20251128T220000
DTSTAMP:20260420T093359
CREATED:20251119T150638Z
LAST-MODIFIED:20251119T150638Z
UID:10016230-1764352800-1764367200@womr.org
SUMMARY:Vinyl Fridays: Ian Lee
DESCRIPTION:vinyl  winecocktailsoysters\nImmaculate music. Phenomenal vibes. Next-level wine. Join us for an all-vinyl journey through sound every Friday night at Baleine – Cape Cod’s new Friday tradition \nLINEUP• 11.7 The Magic Message• 11.14 Braintree Jim• 11.21 DJ SKC• 11.28 Ian Lee\nWine in hand\, vinyl spinning. See you at Baleine 
URL:https://womr.org/event/vinyl-fridays-dj-skc-2/
LOCATION:Baleine\, 776 Main St\, Dennis\, MA\, 02638
CATEGORIES:Music
ATTACH;FMTTYPE=image/jpeg:https://womr.org/wp-content/uploads/2025/11/Vinyl-fri-nov-25-e1763564774122.jpg
GEO:41.7388256;-70.1924252
X-APPLE-STRUCTURED-LOCATION;VALUE=URI;X-ADDRESS=Baleine 776 Main St Dennis MA 02638;X-APPLE-RADIUS=500;X-TITLE=776 Main St:geo:-70.1924252,41.7388256
END:VEVENT
BEGIN:VEVENT
DTSTART;TZID=America/New_York:20251122T180000
DTEND;TZID=America/New_York:20251122T220000
DTSTAMP:20260420T093359
CREATED:20251119T150807Z
LAST-MODIFIED:20251119T150812Z
UID:10016231-1763834400-1763848800@womr.org
SUMMARY:Vinyl Saturdays: Lou DiFunk
DESCRIPTION:vinyl  winecocktailsoysters\nImmaculate music. Phenomenal vibes. Next-level wine. Join us for an all-vinyl journey through sound every Saturday night at Baleine – Cape Cod’s new Saturday tradition \nLINEUP• 11.1 DJ Sprino• 11.8 Nick Minieri• 11.15 Rhythmryder• 11.22 Lou DiFunk• 11.29 Matty Dread\nWine in hand\, vinyl spinning. See you at Baleine 
URL:https://womr.org/event/vinyl-saturdays-lou-difunk/
LOCATION:Baleine\, 776 Main St\, Dennis\, MA\, 02638
ATTACH;FMTTYPE=image/jpeg:https://womr.org/wp-content/uploads/2025/11/Vinyl-sat-nov-e1763564881172.jpg
GEO:41.7388256;-70.1924252
X-APPLE-STRUCTURED-LOCATION;VALUE=URI;X-ADDRESS=Baleine 776 Main St Dennis MA 02638;X-APPLE-RADIUS=500;X-TITLE=776 Main St:geo:-70.1924252,41.7388256
END:VEVENT
BEGIN:VEVENT
DTSTART;TZID=America/New_York:20251121T180000
DTEND;TZID=America/New_York:20251121T220000
DTSTAMP:20260420T093359
CREATED:20251119T150531Z
LAST-MODIFIED:20251119T150618Z
UID:10016229-1763748000-1763762400@womr.org
SUMMARY:Vinyl Fridays: DJ SKC
DESCRIPTION:vinyl  winecocktailsoysters\nImmaculate music. Phenomenal vibes. Next-level wine. Join us for an all-vinyl journey through sound every Friday night at Baleine – Cape Cod’s new Friday tradition \nLINEUP• 11.7 The Magic Message• 11.14 Braintree Jim• 11.21 DJ SKC• 11.28 Ian Lee\nWine in hand\, vinyl spinning. See you at Baleine 
URL:https://womr.org/event/vinyl-fridays-dj-skc/
LOCATION:Baleine\, 776 Main St\, Dennis\, MA\, 02638
CATEGORIES:Music
ATTACH;FMTTYPE=image/jpeg:https://womr.org/wp-content/uploads/2025/11/Vinyl-fri-nov-25-e1763564774122.jpg
GEO:41.7388256;-70.1924252
X-APPLE-STRUCTURED-LOCATION;VALUE=URI;X-ADDRESS=Baleine 776 Main St Dennis MA 02638;X-APPLE-RADIUS=500;X-TITLE=776 Main St:geo:-70.1924252,41.7388256
END:VEVENT
BEGIN:VEVENT
DTSTART;TZID=America/New_York:20251024T180000
DTEND;TZID=America/New_York:20251024T220000
DTSTAMP:20260420T093359
CREATED:20251015T152621Z
LAST-MODIFIED:20251015T152627Z
UID:10016064-1761328800-1761343200@womr.org
SUMMARY:Matty Dread
DESCRIPTION:
URL:https://womr.org/event/matty-dread/
LOCATION:Baleine\, 776 Main St\, Dennis\, MA\, 02638
CATEGORIES:Music
GEO:41.7388256;-70.1924252
X-APPLE-STRUCTURED-LOCATION;VALUE=URI;X-ADDRESS=Baleine 776 Main St Dennis MA 02638;X-APPLE-RADIUS=500;X-TITLE=776 Main St:geo:-70.1924252,41.7388256
END:VEVENT
BEGIN:VEVENT
DTSTART;TZID=America/New_York:20251017T180000
DTEND;TZID=America/New_York:20251017T220000
DTSTAMP:20260420T093359
CREATED:20251015T152550Z
LAST-MODIFIED:20251015T152555Z
UID:10016063-1760724000-1760738400@womr.org
SUMMARY:Braintree Jim
DESCRIPTION:
URL:https://womr.org/event/braintree-jim/
LOCATION:Baleine\, 776 Main St\, Dennis\, MA\, 02638
CATEGORIES:Music
GEO:41.7388256;-70.1924252
X-APPLE-STRUCTURED-LOCATION;VALUE=URI;X-ADDRESS=Baleine 776 Main St Dennis MA 02638;X-APPLE-RADIUS=500;X-TITLE=776 Main St:geo:-70.1924252,41.7388256
END:VEVENT
BEGIN:VEVENT
DTSTART;TZID=America/New_York:20250731T170000
DTEND;TZID=America/New_York:20250731T170000
DTSTAMP:20260420T093359
CREATED:20250626T150626Z
LAST-MODIFIED:20250626T150626Z
UID:10013059-1753981200-1753981200@womr.org
SUMMARY:Vinyl Listening Session: Steve Ashby
DESCRIPTION:
URL:https://womr.org/event/vinyl-listening-session-matty-dread-2-2-3/
LOCATION:Baleine\, 776 Main St\, Dennis\, MA\, 02638
CATEGORIES:Music
GEO:41.7388256;-70.1924252
X-APPLE-STRUCTURED-LOCATION;VALUE=URI;X-ADDRESS=Baleine 776 Main St Dennis MA 02638;X-APPLE-RADIUS=500;X-TITLE=776 Main St:geo:-70.1924252,41.7388256
END:VEVENT
BEGIN:VEVENT
DTSTART;TZID=America/New_York:20250724T170000
DTEND;TZID=America/New_York:20250724T170000
DTSTAMP:20260420T093359
CREATED:20250626T150531Z
LAST-MODIFIED:20250626T150541Z
UID:10013057-1753376400-1753376400@womr.org
SUMMARY:Vinyl Listening Session: Paul Rhythmryder
DESCRIPTION:
URL:https://womr.org/event/vinyl-listening-session-matty-dread-2-2-2-2/
LOCATION:Baleine\, 776 Main St\, Dennis\, MA\, 02638
CATEGORIES:Music
GEO:41.7388256;-70.1924252
X-APPLE-STRUCTURED-LOCATION;VALUE=URI;X-ADDRESS=Baleine 776 Main St Dennis MA 02638;X-APPLE-RADIUS=500;X-TITLE=776 Main St:geo:-70.1924252,41.7388256
END:VEVENT
BEGIN:VEVENT
DTSTART;TZID=America/New_York:20250717T170000
DTEND;TZID=America/New_York:20250717T170000
DTSTAMP:20260420T093359
CREATED:20250626T150505Z
LAST-MODIFIED:20250626T150509Z
UID:10013056-1752771600-1752771600@womr.org
SUMMARY:Vinyl Listening Session: Ian Lee
DESCRIPTION:
URL:https://womr.org/event/vinyl-listening-session-matty-dread-2-2-2/
LOCATION:Baleine\, 776 Main St\, Dennis\, MA\, 02638
CATEGORIES:Music
GEO:41.7388256;-70.1924252
X-APPLE-STRUCTURED-LOCATION;VALUE=URI;X-ADDRESS=Baleine 776 Main St Dennis MA 02638;X-APPLE-RADIUS=500;X-TITLE=776 Main St:geo:-70.1924252,41.7388256
END:VEVENT
BEGIN:VEVENT
DTSTART;TZID=America/New_York:20250710T170000
DTEND;TZID=America/New_York:20250710T170000
DTSTAMP:20260420T093359
CREATED:20250626T150433Z
LAST-MODIFIED:20250626T150614Z
UID:10013055-1752166800-1752166800@womr.org
SUMMARY:Vinyl Listening Session: Steve Ashby
DESCRIPTION:
URL:https://womr.org/event/vinyl-listening-session-matty-dread-2-2/
LOCATION:Baleine\, 776 Main St\, Dennis\, MA\, 02638
CATEGORIES:Music
GEO:41.7388256;-70.1924252
X-APPLE-STRUCTURED-LOCATION;VALUE=URI;X-ADDRESS=Baleine 776 Main St Dennis MA 02638;X-APPLE-RADIUS=500;X-TITLE=776 Main St:geo:-70.1924252,41.7388256
END:VEVENT
BEGIN:VEVENT
DTSTART;TZID=America/New_York:20250703T170000
DTEND;TZID=America/New_York:20250703T170000
DTSTAMP:20260420T093359
CREATED:20250626T150415Z
LAST-MODIFIED:20250626T150418Z
UID:10013054-1751562000-1751562000@womr.org
SUMMARY:Vinyl Listening Session: Michael The Lion
DESCRIPTION:
URL:https://womr.org/event/vinyl-listening-session-matty-dread-2/
LOCATION:Baleine\, 776 Main St\, Dennis\, MA\, 02638
CATEGORIES:Music
GEO:41.7388256;-70.1924252
X-APPLE-STRUCTURED-LOCATION;VALUE=URI;X-ADDRESS=Baleine 776 Main St Dennis MA 02638;X-APPLE-RADIUS=500;X-TITLE=776 Main St:geo:-70.1924252,41.7388256
END:VEVENT
BEGIN:VEVENT
DTSTART;TZID=America/New_York:20250626T170000
DTEND;TZID=America/New_York:20250626T170000
DTSTAMP:20260420T093359
CREATED:20250626T150347Z
LAST-MODIFIED:20250626T150352Z
UID:10013053-1750957200-1750957200@womr.org
SUMMARY:Vinyl Listening Session: Matty Dread
DESCRIPTION:
URL:https://womr.org/event/vinyl-listening-session-matty-dread/
LOCATION:Baleine\, 776 Main St\, Dennis\, MA\, 02638
CATEGORIES:Music
GEO:41.7388256;-70.1924252
X-APPLE-STRUCTURED-LOCATION;VALUE=URI;X-ADDRESS=Baleine 776 Main St Dennis MA 02638;X-APPLE-RADIUS=500;X-TITLE=776 Main St:geo:-70.1924252,41.7388256
END:VEVENT
END:VCALENDAR