BEGIN:VCALENDAR
VERSION:2.0
PRODID:-//WOMR - Outermost Community Radio - ECPv6.15.18//NONSGML v1.0//EN
CALSCALE:GREGORIAN
METHOD:PUBLISH
X-WR-CALNAME:WOMR - Outermost Community Radio
X-ORIGINAL-URL:https://womr.org
X-WR-CALDESC:Events for WOMR - Outermost Community Radio
REFRESH-INTERVAL;VALUE=DURATION:PT1H
X-Robots-Tag:noindex
X-PUBLISHED-TTL:PT1H
BEGIN:VTIMEZONE
TZID:America/New_York
BEGIN:DAYLIGHT
TZOFFSETFROM:-0500
TZOFFSETTO:-0400
TZNAME:EDT
DTSTART:20250309T070000
END:DAYLIGHT
BEGIN:STANDARD
TZOFFSETFROM:-0400
TZOFFSETTO:-0500
TZNAME:EST
DTSTART:20251102T060000
END:STANDARD
BEGIN:DAYLIGHT
TZOFFSETFROM:-0500
TZOFFSETTO:-0400
TZNAME:EDT
DTSTART:20260308T070000
END:DAYLIGHT
BEGIN:STANDARD
TZOFFSETFROM:-0400
TZOFFSETTO:-0500
TZNAME:EST
DTSTART:20261101T060000
END:STANDARD
BEGIN:DAYLIGHT
TZOFFSETFROM:-0500
TZOFFSETTO:-0400
TZNAME:EDT
DTSTART:20270314T070000
END:DAYLIGHT
BEGIN:STANDARD
TZOFFSETFROM:-0400
TZOFFSETTO:-0500
TZNAME:EST
DTSTART:20271107T060000
END:STANDARD
END:VTIMEZONE
BEGIN:VEVENT
DTSTART;TZID=America/New_York:20260424T203000
DTEND;TZID=America/New_York:20260424T203000
DTSTAMP:20260422T101410
CREATED:20260302T041715Z
LAST-MODIFIED:20260302T041846Z
UID:10017352-1777062600-1777062600@womr.org
SUMMARY:Catie Flynn
DESCRIPTION:
URL:https://womr.org/event/catie-flynn-6/
LOCATION:Barley Neck Inn\, 5 Beach Road\, East Orleans
CATEGORIES:Music
GEO:41.7847806;-69.9641065
X-APPLE-STRUCTURED-LOCATION;VALUE=URI;X-ADDRESS=Barley Neck Inn 5 Beach Road East Orleans;X-APPLE-RADIUS=500;X-TITLE=5 Beach Road:geo:-69.9641065,41.7847806
END:VEVENT
END:VCALENDAR