BEGIN:VCALENDAR
VERSION:2.0
PRODID:-//WOMR - Outermost Community Radio - ECPv6.15.18//NONSGML v1.0//EN
CALSCALE:GREGORIAN
METHOD:PUBLISH
X-WR-CALNAME:WOMR - Outermost Community Radio
X-ORIGINAL-URL:https://womr.org
X-WR-CALDESC:Events for WOMR - Outermost Community Radio
REFRESH-INTERVAL;VALUE=DURATION:PT1H
X-Robots-Tag:noindex
X-PUBLISHED-TTL:PT1H
BEGIN:VTIMEZONE
TZID:America/New_York
BEGIN:DAYLIGHT
TZOFFSETFROM:-0500
TZOFFSETTO:-0400
TZNAME:EDT
DTSTART:20240310T070000
END:DAYLIGHT
BEGIN:STANDARD
TZOFFSETFROM:-0400
TZOFFSETTO:-0500
TZNAME:EST
DTSTART:20241103T060000
END:STANDARD
BEGIN:DAYLIGHT
TZOFFSETFROM:-0500
TZOFFSETTO:-0400
TZNAME:EDT
DTSTART:20250309T070000
END:DAYLIGHT
BEGIN:STANDARD
TZOFFSETFROM:-0400
TZOFFSETTO:-0500
TZNAME:EST
DTSTART:20251102T060000
END:STANDARD
BEGIN:DAYLIGHT
TZOFFSETFROM:-0500
TZOFFSETTO:-0400
TZNAME:EDT
DTSTART:20260308T070000
END:DAYLIGHT
BEGIN:STANDARD
TZOFFSETFROM:-0400
TZOFFSETTO:-0500
TZNAME:EST
DTSTART:20261101T060000
END:STANDARD
BEGIN:DAYLIGHT
TZOFFSETFROM:-0500
TZOFFSETTO:-0400
TZNAME:EDT
DTSTART:20270314T070000
END:DAYLIGHT
BEGIN:STANDARD
TZOFFSETFROM:-0400
TZOFFSETTO:-0500
TZNAME:EST
DTSTART:20271107T060000
END:STANDARD
END:VTIMEZONE
BEGIN:VEVENT
DTSTART;TZID=America/New_York:20260321T200000
DTEND;TZID=America/New_York:20260321T200000
DTSTAMP:20260421T083038
CREATED:20260218T152227Z
LAST-MODIFIED:20260218T152232Z
UID:10017302-1774123200-1774123200@womr.org
SUMMARY:Bettye LaVette
DESCRIPTION:The Songs\, The Stories\, The Great Lady Of Soul \nAn intimate evening with Bettye LaVette\, accompanied by Etienne Stadwijk on keyboards. \nBettye LaVette was hailed by the New York Times as “one of the great soul interpreters of her generation”. She is a song stylist. Her gift is being able to take a song from any genre and making it completely her own. To quote the late\, great George Jones\, “Bettye is truly a ‘singer’s singer’.”
URL:https://womr.org/event/bettye-lavette-2/
LOCATION:Narrows Center for the Arts\, 16 Anawan Street \,  MA \, Fall River \, MA\, 02721\, United States
CATEGORIES:Music
GEO:41.7029301;-71.1627269
X-APPLE-STRUCTURED-LOCATION;VALUE=URI;X-ADDRESS=Narrows Center for the Arts 16 Anawan Street   MA  Fall River  MA 02721 United States;X-APPLE-RADIUS=500;X-TITLE=16 Anawan Street \,  MA:geo:-71.1627269,41.7029301
END:VEVENT
BEGIN:VEVENT
DTSTART;TZID=America/New_York:20260314T200000
DTEND;TZID=America/New_York:20260314T200000
DTSTAMP:20260421T083038
CREATED:20260218T152409Z
LAST-MODIFIED:20260218T152457Z
UID:10017303-1773518400-1773518400@womr.org
SUMMARY:Eilen Jewell
DESCRIPTION:Twenty years of touring. Twenty years on the road. “My own weariness amazes me\,” as Bob Dylan sings to his Tambourine Man. I feel ya\, Bob. But the depth of my gratitude amazes me too. I’m humbled by the countless gifts of fanship and friendship throughout the past two decades. I would say it’s been a dream\, except I never could have dreamt up most of it. I’ve shared stages and drinks in hotel rooms with my heroes\, met children named after me\, made friendships rooted in music from Auckland to the Arctic Circle\, performed on trains\, on boats\, for Wall Street men in tuxes and for the muddy denizens of a musk ox farm… Not bad for a lonely rambler girl from Idaho. It was always a nebulous gut feeling that got the show on the road\, and so it is now but in reverse. A gut feeling is telling me to get off the road\, at least for now. After 2026\, touring and I will part ways for a year\, maybe two\, maybe fifty…it’s hard to say at this point. I do hope to keep performing in some capacity. Maybe come see me on a weeknight in some Boise dive\, playing for potatoes? Or strumming the guitar for a handful of fellow meditators as we contemplate the Dharma and the temporary nature of all things. I need some time for a new exploration\, to try to be the kind of mother I want to be\, and to stop moving long enough “to let my soul catch up with me\,” as my grandma Jeanne used to say. Who knows what will come of that? Maybe on some jingle-jangle morning I’ll come following the next great dream\, rested and ready to go anywhere. But until then\, suffice it to say…thank you. Thank you\, thank you to everyone who carried me forward all this way and in all your different ways. \nWith love\, gratitude\, and solidarity in music always\, –Eilen
URL:https://womr.org/event/eilen-jewell-3/
LOCATION:Narrows Center for the Arts\, 16 Anawan Street \,  MA \, Fall River \, MA\, 02721\, United States
CATEGORIES:Music
GEO:41.7029301;-71.1627269
X-APPLE-STRUCTURED-LOCATION;VALUE=URI;X-ADDRESS=Narrows Center for the Arts 16 Anawan Street   MA  Fall River  MA 02721 United States;X-APPLE-RADIUS=500;X-TITLE=16 Anawan Street \,  MA:geo:-71.1627269,41.7029301
END:VEVENT
BEGIN:VEVENT
DTSTART;TZID=America/New_York:20260227T200000
DTEND;TZID=America/New_York:20260227T200000
DTSTAMP:20260421T083038
CREATED:20260218T152652Z
LAST-MODIFIED:20260218T152658Z
UID:10017306-1772222400-1772222400@womr.org
SUMMARY:Duke Rolbillard
DESCRIPTION:Since starting his musical career in 1967 by founding and fronting Roomful of Blues\, Duke Robillard has been at the forefront of Blues\, Swing and classic R&B/Jump blues for over 45 years earning him his legendary status while influencing and inspiring countless legions of musicians and fans worldwide. \nHe has been nominated for 2 Grammy Awards for traditional blues album of the year in 2007/2010 and named Blues Music Awards Traditional male Blues Artist of the Year in 2010.
URL:https://womr.org/event/duke-rolbillard/
LOCATION:Narrows Center for the Arts\, 16 Anawan Street \,  MA \, Fall River \, MA\, 02721\, United States
CATEGORIES:Music
GEO:41.7029301;-71.1627269
X-APPLE-STRUCTURED-LOCATION;VALUE=URI;X-ADDRESS=Narrows Center for the Arts 16 Anawan Street   MA  Fall River  MA 02721 United States;X-APPLE-RADIUS=500;X-TITLE=16 Anawan Street \,  MA:geo:-71.1627269,41.7029301
END:VEVENT
BEGIN:VEVENT
DTSTART;TZID=America/New_York:20260207T200000
DTEND;TZID=America/New_York:20260207T200000
DTSTAMP:20260421T083038
CREATED:20260218T152539Z
LAST-MODIFIED:20260218T152614Z
UID:10017304-1770494400-1770494400@womr.org
SUMMARY:The Tarbox Ramblers
DESCRIPTION:Taking listeners to a place where rock\, backwater blues and Appalachian music come together in unexpected combinations\, The Tarbox Ramblers have drawn praise from The New Yorker and Rolling Stone to All Things Considered. The Washington Post calls them “a force of nature.” Robert Plant saw the band play and recruited them\, on the spot\, to open a string of concert dates for him.
URL:https://womr.org/event/the-tarbox-ramblers/
LOCATION:Narrows Center for the Arts\, 16 Anawan Street \,  MA \, Fall River \, MA\, 02721\, United States
CATEGORIES:Music
GEO:41.7029301;-71.1627269
X-APPLE-STRUCTURED-LOCATION;VALUE=URI;X-ADDRESS=Narrows Center for the Arts 16 Anawan Street   MA  Fall River  MA 02721 United States;X-APPLE-RADIUS=500;X-TITLE=16 Anawan Street \,  MA:geo:-71.1627269,41.7029301
END:VEVENT
BEGIN:VEVENT
DTSTART;TZID=America/New_York:20250726T200000
DTEND;TZID=America/New_York:20250726T200000
DTSTAMP:20260421T083038
CREATED:20250704T000714Z
LAST-MODIFIED:20250704T000720Z
UID:10013120-1753560000-1753560000@womr.org
SUMMARY:North Mississippi Allstars
DESCRIPTION:North Mississippi Allstars started by brother Luther and Cody Dickinson in 1996 as a loose collective of musicians from their North Mississippi home inspired by their father Jim Dickinson as well as neighbors and musical elders of their community; RL Burnside\, Junior Kimbrough\, Otha Turner and Fred McDowell. Luther’s first national tour was the RL Burnside Ass Pocket of Whiskey tour in 1997\, selling out shows in the US and Canada. “Kenny Brown hired me to tour with RL and Cedric and showed me the ropes. That experience blew my mind. Cody and I have been on the road ever since.” NMA began touring in 1998 and over the years the touring lineup has included\, Cedric\, Duwayne and Garry Burnside\, Chris Chew\, Berry Oakley Jr\, Oteil Burbruidgem  and currently Joey Williams of the Blind Boys of Alabama and Ray Ray Hollowman\, guitar player for Eminem and Nee-O. Since their debut album in 2000 and hitting the never ending road\, they have shared the stage with countless legends; Phil Lesh\, Mavis Staples\, Robert Plant\, John Hiatt\, the Allman Brothers\, The Black Crowes\, Buddy Guy\, Snoop Dogg\, and Jon Spencer to name a few\, while earning multiple grammy nominations for their experimental albums of they like to call Modern Mississippi Music.
URL:https://womr.org/event/north-mississippi-allstars/
LOCATION:Narrows Center for the Arts\, 16 Anawan Street \,  MA \, Fall River \, MA\, 02721\, United States
CATEGORIES:Music
GEO:41.7029301;-71.1627269
X-APPLE-STRUCTURED-LOCATION;VALUE=URI;X-ADDRESS=Narrows Center for the Arts 16 Anawan Street   MA  Fall River  MA 02721 United States;X-APPLE-RADIUS=500;X-TITLE=16 Anawan Street \,  MA:geo:-71.1627269,41.7029301
END:VEVENT
BEGIN:VEVENT
DTSTART;TZID=America/New_York:20250723T200000
DTEND;TZID=America/New_York:20250723T200000
DTSTAMP:20260421T083038
CREATED:20250704T000817Z
LAST-MODIFIED:20250704T000854Z
UID:10013121-1753300800-1753300800@womr.org
SUMMARY:Sierra Hull
DESCRIPTION:Sierra Hull is widely regarded to be a as a master of her instrument; A two-time Grammy Nominated artist and songwriter\, recognized for both her most recent projects\, 25 Trips (2020) and Weighted Mind (2016)\, she is also the 4x recipient of IBMA’s Mandolin Player of the Year\, the first woman to ever receive this distinction. A pioneer for acoustic music throughout her already impressive multi-decade career\, she has graced the country’s most iconic stages\, including Carnegie Hall\, the Grand Ole Opry\, and the White House. Her virtuosic abilities have garnered respect from genre-defining trailblazers\, friends\, and collaborators such as Alison Krauss\, Sturgill Simpson\, Garth Brooks\, Dolly Parton\, Bela Fleck\, Bobby McFerrin\, and Brandi Carlile. Originally hailing from Byrdstown\, Tennessee\, her unique sound is rooted in bluegrass\, and she is widely considered one of acoustic music’s most inventive artists.
URL:https://womr.org/event/sierra-hull-2/
LOCATION:Narrows Center for the Arts\, 16 Anawan Street \,  MA \, Fall River \, MA\, 02721\, United States
CATEGORIES:Music
GEO:41.7029301;-71.1627269
X-APPLE-STRUCTURED-LOCATION;VALUE=URI;X-ADDRESS=Narrows Center for the Arts 16 Anawan Street   MA  Fall River  MA 02721 United States;X-APPLE-RADIUS=500;X-TITLE=16 Anawan Street \,  MA:geo:-71.1627269,41.7029301
END:VEVENT
BEGIN:VEVENT
DTSTART;TZID=America/New_York:20250719T200000
DTEND;TZID=America/New_York:20250719T200000
DTSTAMP:20260421T083038
CREATED:20250704T000934Z
LAST-MODIFIED:20250704T160828Z
UID:10013122-1752955200-1752955200@womr.org
SUMMARY:Anders Osborne
DESCRIPTION:On his 17th full-length album\, singer-songwriter Anders Osborne describes Picasso’s Villa\, “a condensed story about living in America between 2018-2021\, the fears\, confusion\, deep joy and peace achieved through true friendship\, family\, community\, hours of meditation and detachment from ego. \n“Bewildered\,” the first track released from the album\, is an impressionistic reflection on four decades of American politics and culture\, from the Reagan era through the digital world of the twenty-first century. Osborne says\, “Bewildered began as an exercise in historical observation but it was engaging in a fun way to deep dive into the stories of the past that created instant cultural shifts. All these basic human rights issues have been made into divisive political issues. But at the core of everything is the bewilderment of suffering and the basic human longing for bliss. We are all playing a divine\, eternal game with Brahman\, this world’s duality prevents good nor bad from prevailing. We are bewildered and beguiled by love and fear.”
URL:https://womr.org/event/anders-osborne/
LOCATION:Narrows Center for the Arts\, 16 Anawan Street \,  MA \, Fall River \, MA\, 02721\, United States
CATEGORIES:Music
GEO:41.7029301;-71.1627269
X-APPLE-STRUCTURED-LOCATION;VALUE=URI;X-ADDRESS=Narrows Center for the Arts 16 Anawan Street   MA  Fall River  MA 02721 United States;X-APPLE-RADIUS=500;X-TITLE=16 Anawan Street \,  MA:geo:-71.1627269,41.7029301
END:VEVENT
BEGIN:VEVENT
DTSTART;TZID=America/New_York:20250606T200000
DTEND;TZID=America/New_York:20250606T200000
DTSTAMP:20260421T083038
CREATED:20250423T163441Z
LAST-MODIFIED:20250423T163513Z
UID:10012300-1749240000-1749240000@womr.org
SUMMARY:John 'Papa' Gros
DESCRIPTION:“Sharing New Orleans with the world is my calling\,” says pianist and organist John “Papa” Gros (pronounced  grow).“That’s what I have been doing and that’s what I’ll do with the rest of my life.” \nFor over three decades\, Gros has brought his city’s celebratory culture to listeners around the globe. Gros mixes all the sounds of New Orleans – funk\, trad jazz\, brass band\, blues – and makes it his own signature gumbo. His new solo album Central City\, shows Gros capturing New Orleans’ distinct feel-good charm with help from some of its’ most renowned players.
URL:https://womr.org/event/john-papa-gros/
LOCATION:Narrows Center for the Arts\, 16 Anawan Street \,  MA \, Fall River \, MA\, 02721\, United States
CATEGORIES:Music
GEO:41.7029301;-71.1627269
X-APPLE-STRUCTURED-LOCATION;VALUE=URI;X-ADDRESS=Narrows Center for the Arts 16 Anawan Street   MA  Fall River  MA 02721 United States;X-APPLE-RADIUS=500;X-TITLE=16 Anawan Street \,  MA:geo:-71.1627269,41.7029301
END:VEVENT
END:VCALENDAR