BEGIN:VCALENDAR
VERSION:2.0
PRODID:-//WOMR - Outermost Community Radio - ECPv6.15.18//NONSGML v1.0//EN
CALSCALE:GREGORIAN
METHOD:PUBLISH
X-ORIGINAL-URL:https://womr.org
X-WR-CALDESC:Events for WOMR - Outermost Community Radio
REFRESH-INTERVAL;VALUE=DURATION:PT1H
X-Robots-Tag:noindex
X-PUBLISHED-TTL:PT1H
BEGIN:VTIMEZONE
TZID:America/New_York
BEGIN:DAYLIGHT
TZOFFSETFROM:-0500
TZOFFSETTO:-0400
TZNAME:EDT
DTSTART:20230312T070000
END:DAYLIGHT
BEGIN:STANDARD
TZOFFSETFROM:-0400
TZOFFSETTO:-0500
TZNAME:EST
DTSTART:20231105T060000
END:STANDARD
BEGIN:DAYLIGHT
TZOFFSETFROM:-0500
TZOFFSETTO:-0400
TZNAME:EDT
DTSTART:20240310T070000
END:DAYLIGHT
BEGIN:STANDARD
TZOFFSETFROM:-0400
TZOFFSETTO:-0500
TZNAME:EST
DTSTART:20241103T060000
END:STANDARD
BEGIN:DAYLIGHT
TZOFFSETFROM:-0500
TZOFFSETTO:-0400
TZNAME:EDT
DTSTART:20250309T070000
END:DAYLIGHT
BEGIN:STANDARD
TZOFFSETFROM:-0400
TZOFFSETTO:-0500
TZNAME:EST
DTSTART:20251102T060000
END:STANDARD
END:VTIMEZONE
BEGIN:VEVENT
DTSTART;TZID=America/New_York:20240609T170000
DTEND;TZID=America/New_York:20240609T180000
DTSTAMP:20260423T094105
CREATED:20240525T122500Z
LAST-MODIFIED:20240525T122500Z
UID:10006352-1717952400-1717956000@womr.org
SUMMARY:In Concert Outer Cape Chorale Chamber Singers present POSTCARDS!
DESCRIPTION:POSTCARDS!\nThe Outer Cape Chorale Chamber Singers will perform acapella songs and tell stories of special places.  Encompassing all genres\, this hour-long eclectic program will have something for everyone to enjoy
URL:https://womr.org/event/in-concert-outer-cape-chorale-chamber-singers-present-postcards-6/
LOCATION:St Mary of the Harbor\, 517 Commercial Street\, Provincetown\, MA\, 02657\, United States
CATEGORIES:Music
ATTACH;FMTTYPE=image/jpeg:https://womr.org/wp-content/uploads/2024/05/Postcards-pic-1.jpg
ORGANIZER;CN="Outer Cape Chorale":MAILTO:info@outercapechorale.org
GEO:42.0576913;-70.1760693
X-APPLE-STRUCTURED-LOCATION;VALUE=URI;X-ADDRESS=St Mary of the Harbor 517 Commercial Street Provincetown MA 02657 United States;X-APPLE-RADIUS=500;X-TITLE=517 Commercial Street:geo:-70.1760693,42.0576913
END:VEVENT
END:VCALENDAR