BEGIN:VCALENDAR
VERSION:2.0
PRODID:-//WOMR - Outermost Community Radio - ECPv6.15.18//NONSGML v1.0//EN
CALSCALE:GREGORIAN
METHOD:PUBLISH
X-ORIGINAL-URL:https://womr.org
X-WR-CALDESC:Events for WOMR - Outermost Community Radio
REFRESH-INTERVAL;VALUE=DURATION:PT1H
X-Robots-Tag:noindex
X-PUBLISHED-TTL:PT1H
BEGIN:VTIMEZONE
TZID:America/New_York
BEGIN:DAYLIGHT
TZOFFSETFROM:-0500
TZOFFSETTO:-0400
TZNAME:EDT
DTSTART:20230312T070000
END:DAYLIGHT
BEGIN:STANDARD
TZOFFSETFROM:-0400
TZOFFSETTO:-0500
TZNAME:EST
DTSTART:20231105T060000
END:STANDARD
BEGIN:DAYLIGHT
TZOFFSETFROM:-0500
TZOFFSETTO:-0400
TZNAME:EDT
DTSTART:20240310T070000
END:DAYLIGHT
BEGIN:STANDARD
TZOFFSETFROM:-0400
TZOFFSETTO:-0500
TZNAME:EST
DTSTART:20241103T060000
END:STANDARD
BEGIN:DAYLIGHT
TZOFFSETFROM:-0500
TZOFFSETTO:-0400
TZNAME:EDT
DTSTART:20250309T070000
END:DAYLIGHT
BEGIN:STANDARD
TZOFFSETFROM:-0400
TZOFFSETTO:-0500
TZNAME:EST
DTSTART:20251102T060000
END:STANDARD
BEGIN:DAYLIGHT
TZOFFSETFROM:-0500
TZOFFSETTO:-0400
TZNAME:EDT
DTSTART:20260308T070000
END:DAYLIGHT
BEGIN:STANDARD
TZOFFSETFROM:-0400
TZOFFSETTO:-0500
TZNAME:EST
DTSTART:20261101T060000
END:STANDARD
END:VTIMEZONE
BEGIN:VEVENT
DTSTART;TZID=America/New_York:20250907T160000
DTEND;TZID=America/New_York:20250907T200000
DTSTAMP:20260421T082742
CREATED:20250808T163822Z
LAST-MODIFIED:20250808T163845Z
UID:10014675-1757260800-1757275200@womr.org
SUMMARY:The Invincible Casuals
DESCRIPTION:
URL:https://womr.org/event/the-invincible-casuals-4/
LOCATION:Wellfleet Beachcomber\, Cahoon Hollow\, Wellfleet
CATEGORIES:Music
GEO:41.9445495;-69.9855768
X-APPLE-STRUCTURED-LOCATION;VALUE=URI;X-ADDRESS=Wellfleet Beachcomber Cahoon Hollow Wellfleet;X-APPLE-RADIUS=500;X-TITLE=Cahoon Hollow:geo:-69.9855768,41.9445495
END:VEVENT
BEGIN:VEVENT
DTSTART;TZID=America/New_York:20250809T210000
DTEND;TZID=America/New_York:20250809T210000
DTSTAMP:20260421T082742
CREATED:20250605T022912Z
LAST-MODIFIED:20250605T022916Z
UID:10012724-1754773200-1754773200@womr.org
SUMMARY:Shango Axe
DESCRIPTION:
URL:https://womr.org/event/shango-axe/
LOCATION:Wellfleet Beachcomber\, Cahoon Hollow\, Wellfleet
CATEGORIES:Music
GEO:41.9445495;-69.9855768
X-APPLE-STRUCTURED-LOCATION;VALUE=URI;X-ADDRESS=Wellfleet Beachcomber Cahoon Hollow Wellfleet;X-APPLE-RADIUS=500;X-TITLE=Cahoon Hollow:geo:-69.9855768,41.9445495
END:VEVENT
BEGIN:VEVENT
DTSTART;TZID=America/New_York:20250724T213000
DTEND;TZID=America/New_York:20250724T213000
DTSTAMP:20260421T082743
CREATED:20250724T160157Z
LAST-MODIFIED:20250724T160211Z
UID:10014254-1753392600-1753392600@womr.org
SUMMARY:The New Mastersounds
DESCRIPTION:
URL:https://womr.org/event/the-new-mastersounds/
LOCATION:Wellfleet Beachcomber\, Cahoon Hollow\, Wellfleet
CATEGORIES:Music
GEO:41.9445495;-69.9855768
X-APPLE-STRUCTURED-LOCATION;VALUE=URI;X-ADDRESS=Wellfleet Beachcomber Cahoon Hollow Wellfleet;X-APPLE-RADIUS=500;X-TITLE=Cahoon Hollow:geo:-69.9855768,41.9445495
END:VEVENT
BEGIN:VEVENT
DTSTART;TZID=America/New_York:20250607T210000
DTEND;TZID=America/New_York:20250607T210000
DTSTAMP:20260421T082743
CREATED:20250516T170724Z
LAST-MODIFIED:20250516T170743Z
UID:10012420-1749330000-1749330000@womr.org
SUMMARY:Sugar Bucket
DESCRIPTION:
URL:https://womr.org/event/sugar-bucket-4/
LOCATION:Wellfleet Beachcomber\, Cahoon Hollow\, Wellfleet
CATEGORIES:Music
GEO:41.9445495;-69.9855768
X-APPLE-STRUCTURED-LOCATION;VALUE=URI;X-ADDRESS=Wellfleet Beachcomber Cahoon Hollow Wellfleet;X-APPLE-RADIUS=500;X-TITLE=Cahoon Hollow:geo:-69.9855768,41.9445495
END:VEVENT
BEGIN:VEVENT
DTSTART;TZID=America/New_York:20240727T210000
DTEND;TZID=America/New_York:20240727T210000
DTSTAMP:20260421T082743
CREATED:20240519T225100Z
LAST-MODIFIED:20240611T194742Z
UID:10007335-1722114000-1722114000@womr.org
SUMMARY:John Brown's Body
DESCRIPTION:
URL:https://womr.org/event/john-browns-body/
LOCATION:Wellfleet Beachcomber\, Cahoon Hollow\, Wellfleet
CATEGORIES:Music
GEO:41.9445495;-69.9855768
X-APPLE-STRUCTURED-LOCATION;VALUE=URI;X-ADDRESS=Wellfleet Beachcomber Cahoon Hollow Wellfleet;X-APPLE-RADIUS=500;X-TITLE=Cahoon Hollow:geo:-69.9855768,41.9445495
END:VEVENT
BEGIN:VEVENT
DTSTART;TZID=America/New_York:20240726T220000
DTEND;TZID=America/New_York:20240726T220000
DTSTAMP:20260421T082743
CREATED:20240710T175915Z
LAST-MODIFIED:20240710T180735Z
UID:10008863-1722031200-1722031200@womr.org
SUMMARY:John Cruz Trio
DESCRIPTION:
URL:https://womr.org/event/john-cruz/
LOCATION:Wellfleet Beachcomber\, Cahoon Hollow\, Wellfleet
CATEGORIES:Music
GEO:41.9445495;-69.9855768
X-APPLE-STRUCTURED-LOCATION;VALUE=URI;X-ADDRESS=Wellfleet Beachcomber Cahoon Hollow Wellfleet;X-APPLE-RADIUS=500;X-TITLE=Cahoon Hollow:geo:-69.9855768,41.9445495
END:VEVENT
BEGIN:VEVENT
DTSTART;TZID=America/New_York:20240718T220000
DTEND;TZID=America/New_York:20240718T220000
DTSTAMP:20260421T082743
CREATED:20240710T180812Z
LAST-MODIFIED:20240710T181620Z
UID:10008864-1721340000-1721340000@womr.org
SUMMARY:Nikki & The Barn Boys
DESCRIPTION:
URL:https://womr.org/event/nikki-the-barn-boys-3/
LOCATION:Wellfleet Beachcomber\, Cahoon Hollow\, Wellfleet
CATEGORIES:Music
GEO:41.9445495;-69.9855768
X-APPLE-STRUCTURED-LOCATION;VALUE=URI;X-ADDRESS=Wellfleet Beachcomber Cahoon Hollow Wellfleet;X-APPLE-RADIUS=500;X-TITLE=Cahoon Hollow:geo:-69.9855768,41.9445495
END:VEVENT
END:VCALENDAR